BEGIN:VCALENDAR
VERSION:2.0
PRODID:-//StivoZ.gr - ECPv5.16.4//NONSGML v1.0//EN
CALSCALE:GREGORIAN
METHOD:PUBLISH
X-WR-CALNAME:StivoZ.gr
X-ORIGINAL-URL:https://www.stivoz.gr
X-WR-CALDESC:StivoZ.gr - Εκδηλώσεις
BEGIN:VTIMEZONE
TZID:Europe/Athens
BEGIN:STANDARD
TZOFFSETFROM:+0200
TZOFFSETTO:+0200
TZNAME:EET
DTSTART:20160101T000000
END:STANDARD
END:VTIMEZONE
BEGIN:VEVENT
DTSTART;VALUE=DATE:20161211
DTEND;VALUE=DATE:20260422
DTSTAMP:20260421T113125
CREATED:20171212T061241Z
LAST-MODIFIED:20181218T091338Z
UID:29271-1481414400-0@www.stivoz.gr
SUMMARY:Ευρωπαικό ανωμάλου (Chia)
DESCRIPTION:Σχετικά θέματα:\n– www.stivoz.com/content.php?5924-H-Kenya-kyriarxi-sto-Europaiko-anwmalou-Kaya-Can-nikites-1os-efivos-o-jr-Ingebrigtsen
URL:https://www.stivoz.gr/event/chia2016/
CATEGORIES:Ημερολόγιο αγώνων
END:VEVENT
END:VCALENDAR