BEGIN:VCALENDAR
VERSION:2.0
PRODID:-//StivoZ.gr - ECPv5.16.4//NONSGML v1.0//EN
CALSCALE:GREGORIAN
METHOD:PUBLISH
X-WR-CALNAME:StivoZ.gr
X-ORIGINAL-URL:https://www.stivoz.gr
X-WR-CALDESC:StivoZ.gr - Εκδηλώσεις
BEGIN:VTIMEZONE
TZID:Europe/Athens
BEGIN:STANDARD
TZOFFSETFROM:+0200
TZOFFSETTO:+0200
TZNAME:EET
DTSTART:20180101T000000
END:STANDARD
END:VTIMEZONE
BEGIN:VEVENT
DTSTART;VALUE=DATE:20180519
DTEND;VALUE=DATE:20260420
DTSTAMP:20260419T201623
CREATED:20180418T071907Z
LAST-MODIFIED:20211210T105506Z
UID:29336-1526688000-0@www.stivoz.gr
SUMMARY:αθλητ.συνάντηση Χανιά
DESCRIPTION:Σχετικά θέματα:\n– www.stivoz.com/content.php?6677-Chania-Megala-almata-Tentoglou-Kyriakopoulou-Oria-Polak-Tsakonas\n– www.stivoz.com/forum/showthread.php?17617 (αποτελέσματα) \n-> infos & start lists \nΗ διοργάνωση θα μεταδοθεί τηλεοπτικά από από την Νέα Τηλεόραση Κρήτης στο CosmoteTV channel 672 (16:30 εως 19:15)\n-> Livestream (& Liveresults) \nΠρόγραμμα: \n11.00 Σφύρα Κ – ΠΚ Α’\n11.30 Επί κοντώ Π & Κ\n12.00 Σφύρα Π – ΠΠ Α’\n13.45 Δίσκος Π\n14.30 Σφαίρα Κ \nΝέο κύριο πρόγραμμα \n15:00 Άλμα Επί Κοντώ Ανδρών\n16:30 ΤΕΛΕΤΗ ΕΝΑΡΞΗΣ\n16:45 Άλμα Τριπλούν Γυναικών\n16:50 100μ. με Εμπ. Γυναικών ΑʼΣειρά\n16:55 Σφαιροβολία Ανδρών\n17:00 100μ. με Εμπ Γυναικών Βʼ Σειρά\n17:05 Άλμα Επί Κοντώ Γυναικών\n17:10 Σκυταλοδρομία 10Χ40μ.\n17:30 100m Ανδρών Αʼ Σειρά\n17:35 100m Ανδρών Βʼ Σειρά\n17:45 100m Γυναικών ΑʼΣειρά\n17:50 100m Γυναικών ΒʼΣειρά\n18:00 Δισκοβολία Ανδρών\n18:05 400m Ανδρών\n18:10 Άλμα σε Μήκος Ανδρών\n18:15 400m Γυναικών ΑʼΣειρά\n18:25 400m Γυναικών ΒʼΣειρά\n18:35 800m Ανδρών\n18:50  110μ. με Εμπόδια Ανδρών\n19:00 200μ. Ανδρών
URL:https://www.stivoz.gr/event/chania-2018/
CATEGORIES:Ημερολόγιο αγώνων
END:VEVENT
END:VCALENDAR