BEGIN:VCALENDAR
VERSION:2.0
PRODID:-//StivoZ.gr - ECPv5.16.4//NONSGML v1.0//EN
CALSCALE:GREGORIAN
METHOD:PUBLISH
X-WR-CALNAME:StivoZ.gr
X-ORIGINAL-URL:https://www.stivoz.gr
X-WR-CALDESC:StivoZ.gr - Εκδηλώσεις
BEGIN:VTIMEZONE
TZID:Europe/Athens
BEGIN:STANDARD
TZOFFSETFROM:+0200
TZOFFSETTO:+0200
TZNAME:EET
DTSTART:20170101T000000
END:STANDARD
END:VTIMEZONE
BEGIN:VEVENT
DTSTART;VALUE=DATE:20170520
DTEND;VALUE=DATE:20260420
DTSTAMP:20260419T174349
CREATED:20170508T192635Z
LAST-MODIFIED:20211210T105517Z
UID:29196-1495238400-0@www.stivoz.gr
SUMMARY:Χανιά 2017
DESCRIPTION:www.athletics-meeting-chania.com\n->page \nΣχετικά θέματα:\n– www.stivoz.com/content.php?6154-Xania-statheros-Tentoglou-Oria-Kalakos-kai-Polak\n– www.stivoz.com/forum/showthread.php?16519 (αποτελέσματα) \n-> Συμμετοχές \nΠρόγραμμα (προσχέδιο) : \n11:00	Σφυροβολία Κ-ΠΚ Αʼ\n11:30	Επί κοντώ Π-Κ\n12:00	Σφυροβολία Π-ΠΠ Αʼ\n15:00	Επί κοντώ Γυναικών\n15:00	Σφαιροβολία Κορασίδων\n15:10	Μήκος Γυναικών\n15:45	Ύψος ΠΚ Αʼ\n16:15	Δισκοβολία Παίδων\n16:20	80μ ΠΠ-ΠΚ Αʼ\n16:40	Μήκος Ανδρών\n16:45	ΕΠΙΣΗΜΗ ΤΕΛΕΤΗ ΕΝΑΡΞΗΣ\n16:55	100μ Εμπόδια Γυναικών\n17:15	110μ Εμπόδια Ανδρών\n17:30	Επί κοντώ Ανδρών\n17:30	Σκυταλοδρομία 10×40μ Μίνι ΠΠ/ΠΚ\n17:35	Ύψος Ανδρών\n17:45	100μ Γυναικών\n17:55	Δισκοβολία Γυναικών\n18:00	100μ Ανδρών\n18:10	Τριπλούν Γυναικών\n18:20	400μ Γυναικών\n18:35	400μ Ανδρών\n18:50	800μ Ανδρών\n19:05	200μ Γυναικών\n19:20	200μ Ανδρών\n19:40	1.000μ ΠΠ-ΠΚ Αʼ\n19:55	60μ ΠΠ-ΠΚ Βʼ
URL:https://www.stivoz.gr/event/chania-2017/
CATEGORIES:Ημερολόγιο αγώνων
END:VEVENT
END:VCALENDAR