BEGIN:VCALENDAR
VERSION:2.0
PRODID:-//StivoZ.gr - ECPv5.16.4//NONSGML v1.0//EN
CALSCALE:GREGORIAN
METHOD:PUBLISH
X-WR-CALNAME:StivoZ.gr
X-ORIGINAL-URL:https://www.stivoz.gr
X-WR-CALDESC:StivoZ.gr - Εκδηλώσεις
BEGIN:VTIMEZONE
TZID:Europe/Athens
BEGIN:DAYLIGHT
TZOFFSETFROM:+0200
TZOFFSETTO:+0300
TZNAME:EEST
DTSTART:20240331T010000
END:DAYLIGHT
BEGIN:STANDARD
TZOFFSETFROM:+0300
TZOFFSETTO:+0200
TZNAME:EET
DTSTART:20241027T010000
END:STANDARD
END:VTIMEZONE
BEGIN:VEVENT
DTSTART;VALUE=DATE:20240225
DTEND;VALUE=DATE:20240226
DTSTAMP:20260422T033802
CREATED:20240107T102022Z
LAST-MODIFIED:20240225T131312Z
UID:110882-1708819200-1708905599@www.stivoz.gr
SUMMARY:Πανελ.πρωτ. ανωμάλου (Πηγή Τρικάλων)
DESCRIPTION:Σχετικά θέματα:\n– www.stivoz.gr/panellinio-protathlima-anomaloy-2024/ (αποτελέσματα) \n-> Νικητές πρωταθλήματος \n-> νέα πίστα \nΠρόγραμμα: \n10:00 4χλμ. Κ20 Γυναικών\n10:20 3χλμ. Κ18 Γυναικών\n10:35 3χλμ. Κ16 Αγοριών\n10:55 2χλμ. Κ16 Κοριτσιών\n11:15 4χλμ. Κ18 Ανδρών\n11:35 8χλμ. Γυναικών & 6χλμ. Κ23 Γυναικών\n12:15 6χλμ. Κ20 Ανδρών\n12:45 10χλμ. Ανδρών & 8χλμ. Κ23 Ανδρών \nΣτα ομαδικά υπολογίζονται οι 3 καλύτεροι κάθε συλλόγου. \nΒαθμολογείται-αξιολογείται η 12αδα και επιπλέον ως το 60% όσων τερματίσουν ανά κατηγορία. \nΠροϋπόθεση συμμετοχής είναι η συμμετοχή σε περιφερειακό αγώνα.\nΕξαίρεση οι αθλητές σχεδιασμού-προεθνικών και όσοι το προηγούμενο έτος ήταν στους 8 πρώτους του πρωταθλήματος ανωμάλου\, ή τους 3 πρώτους πανελληνίων ανοικτού ή κλειστού σε δρόμους μεσαίων και μεγάλων αποστάσεων.\nΚάθε σωματείο μπορεί να δηλώσει ακόμα 4 αθλητές-τριες συνολικά.\nΟι άνω των 35 έχουν και επιπλέον ειδικές προϋποθέσεις : να είναι στους 25 πρώτους του προηγούμενου πανελληνίου πρωταθλήματος ανωμάλου\, ή να έχουν στα 2 προηγούμενα έτη επίδοση στις 50 καλύτερες αγωνίσματος από 800μ. και πάνω. \nΟι δηλώσεις συμμετοχής πρέπει να σταλούν στον ΣΕΓΑΣ με email το αργότερο μέχρι και την Τετάρτη 14 Φεβρουσρίου 2025 και ώρα 14:00 στην ηλεκτρονική διεύθυνση entries@segas.gr
URL:https://www.stivoz.gr/event/cc-2024/
CATEGORIES:Ημερολόγιο αγώνων
END:VEVENT
END:VCALENDAR