BEGIN:VCALENDAR
VERSION:2.0
PRODID:-//StivoZ.gr - ECPv5.16.4//NONSGML v1.0//EN
CALSCALE:GREGORIAN
METHOD:PUBLISH
X-WR-CALNAME:StivoZ.gr
X-ORIGINAL-URL:https://www.stivoz.gr
X-WR-CALDESC:StivoZ.gr - Εκδηλώσεις
BEGIN:VTIMEZONE
TZID:Europe/Athens
BEGIN:STANDARD
TZOFFSETFROM:+0200
TZOFFSETTO:+0200
TZNAME:EET
DTSTART:20090101T000000
END:STANDARD
END:VTIMEZONE
BEGIN:VEVENT
DTSTART;VALUE=DATE:20090222
DTEND;VALUE=DATE:20260424
DTSTAMP:20260423T134119
CREATED:20081101T093836Z
LAST-MODIFIED:20220622T075359Z
UID:28258-1235260800-0@www.stivoz.gr
SUMMARY:Πανελλήνιο Πρωτάθλημα Ανωμάλου δρόμου (Μαρκόπουλο)
DESCRIPTION:Σχετικά θέματα:\nhttp://www.stivoz.gr/?p=18979\nhttp://www.stivoz.gr/?p=20410\nhttp://www.stivoz.gr/?p=18979 (αποτελέσματα) \n09.30 4.000μ Ν\n09.55 3.000μ Κ\n10.15 6.000μ Ε\n10.45 4.000μ Π \n11.05 2.000μ ΠΚ Α΄\n11.20 3.000μ ΠΠ Α΄ \n11.40 6.000μ Γ Β΄(Νεων)\n12.25 8.000μ Α Β΄(Νεων) \n13.05 10.000μ Α\n13.50 8.000μ Γ
URL:https://www.stivoz.gr/event/cc-2009/
CATEGORIES:Ημερολόγιο αγώνων
END:VEVENT
END:VCALENDAR