BEGIN:VCALENDAR
VERSION:2.0
PRODID:-//StivoZ.gr - ECPv5.16.4//NONSGML v1.0//EN
CALSCALE:GREGORIAN
METHOD:PUBLISH
X-WR-CALNAME:StivoZ.gr
X-ORIGINAL-URL:https://www.stivoz.gr
X-WR-CALDESC:StivoZ.gr - Εκδηλώσεις
BEGIN:VTIMEZONE
TZID:Europe/Athens
BEGIN:DAYLIGHT
TZOFFSETFROM:+0200
TZOFFSETTO:+0300
TZNAME:EEST
DTSTART:20220327T010000
END:DAYLIGHT
BEGIN:STANDARD
TZOFFSETFROM:+0300
TZOFFSETTO:+0200
TZNAME:EET
DTSTART:20221030T010000
END:STANDARD
END:VTIMEZONE
BEGIN:VEVENT
DTSTART;VALUE=DATE:20220309
DTEND;VALUE=DATE:20220313
DTSTAMP:20260419T201250
CREATED:20220308T192804Z
LAST-MODIFIED:20220407T135256Z
UID:89098-1646784000-1647129599@www.stivoz.gr
SUMMARY:camp σκυταλοδρομιών (Αγ.Κοσμάς)
DESCRIPTION:(αναβολή από 12-15/1) \nΠρόγραμμα \nΤετάρτη (9/3)\n19.00-21.00 Ενημέρωση αθλητών και αθλητριών και στοχοποίηση \nΠέμπτη (10/3)\n17.00-19.00 Προπόνηση Γυναικών\n19.00-21.00 Προπόνηση Ανδρών \nΠαρασκευή (11/3)\n10.00- 11.30 Προπόνηση Γυναικών\n11.30-13.00 Προπόνηση Ανδρών\n17.00-19.00 Προπόνηση Γυναικών\n19.00-21.00 Προπόνηση Ανδρών \nΣάββατο (12/3)\n15.00-17.00 Κοινή προπόνηση Ανδρών-Γυναικών \n 
URL:https://www.stivoz.gr/event/camp-relays-2022-a/
CATEGORIES:Ημερολόγιο αγώνων
END:VEVENT
END:VCALENDAR