BEGIN:VCALENDAR
VERSION:2.0
PRODID:-//StivoZ.gr - ECPv5.16.4//NONSGML v1.0//EN
CALSCALE:GREGORIAN
METHOD:PUBLISH
X-WR-CALNAME:StivoZ.gr
X-ORIGINAL-URL:https://www.stivoz.gr
X-WR-CALDESC:StivoZ.gr - Εκδηλώσεις
BEGIN:VTIMEZONE
TZID:Europe/Athens
BEGIN:DAYLIGHT
TZOFFSETFROM:+0200
TZOFFSETTO:+0300
TZNAME:EEST
DTSTART:20170326T010000
END:DAYLIGHT
BEGIN:STANDARD
TZOFFSETFROM:+0300
TZOFFSETTO:+0200
TZNAME:EET
DTSTART:20171029T010000
END:STANDARD
END:VTIMEZONE
BEGIN:VEVENT
DTSTART;VALUE=DATE:20171201
DTEND;VALUE=DATE:20171204
DTSTAMP:20260420T000419
CREATED:20171020T144535Z
LAST-MODIFIED:20230830T064119Z
UID:29257-1512144000-1512306000@www.stivoz.gr
SUMMARY:Camp - σκυταλοδρομίες
DESCRIPTION:Σχετικά θέματα:\n– www.stivoz.com/content.php?6472-Ena-kalo-xekinima-gia-tis-skytales-sto-Hrakleio
URL:https://www.stivoz.gr/event/camp-relays-2017-2/
CATEGORIES:Ημερολόγιο αγώνων
END:VEVENT
END:VCALENDAR