BEGIN:VCALENDAR
VERSION:2.0
PRODID:-//StivoZ.gr - ECPv5.16.4//NONSGML v1.0//EN
CALSCALE:GREGORIAN
METHOD:PUBLISH
X-WR-CALNAME:StivoZ.gr
X-ORIGINAL-URL:https://www.stivoz.gr
X-WR-CALDESC:StivoZ.gr - Εκδηλώσεις
BEGIN:VTIMEZONE
TZID:Europe/Athens
BEGIN:DAYLIGHT
TZOFFSETFROM:+0200
TZOFFSETTO:+0300
TZNAME:EEST
DTSTART:20160327T010000
END:DAYLIGHT
BEGIN:STANDARD
TZOFFSETFROM:+0300
TZOFFSETTO:+0200
TZNAME:EET
DTSTART:20161030T010000
END:STANDARD
END:VTIMEZONE
BEGIN:VEVENT
DTSTART;VALUE=DATE:20161216
DTEND;VALUE=DATE:20161219
DTSTAMP:20260421T130853
CREATED:20161214T161809Z
LAST-MODIFIED:20230830T064131Z
UID:29148-1481904000-1482064200@www.stivoz.gr
SUMMARY:camp σκυταλοδρομιών
DESCRIPTION:Σχετικά θέματα:\n– www.stivoz.com/content.php?5910-To-1o-camp-gia-skytalodromies\n– www.stivoz.com/content.php?5928-Ta-proponitika-camp-tis-periodou \nΠρόγραμμα: \nΠαρασκευή 16/12/16\n16:00-18:30 Προπόνηση\, Άγιος Κοσμάς\n19:00-20:30 Σεμινάριο για τις σκυταλοδρομίες\, Ξενοδοχείο ΟΑΣΙΣ Γλυφάδα \nΣάββατο 17/12/16\n10:00-12:30 Προπόνηση\, Άγιος Κοσμάς\n16:00-19:00 Προπόνηση\, Άγιος Κοσμάς \nΚυριακή 18/12/16\n10:00-12:30 Προπόνηση\, Άγιος Κοσμάς\n-Αναχώρηση
URL:https://www.stivoz.gr/event/camp-relays-2016/
CATEGORIES:Ημερολόγιο αγώνων
END:VEVENT
END:VCALENDAR