BEGIN:VCALENDAR
VERSION:2.0
PRODID:-//StivoZ.gr - ECPv5.16.4//NONSGML v1.0//EN
CALSCALE:GREGORIAN
METHOD:PUBLISH
X-WR-CALNAME:StivoZ.gr
X-ORIGINAL-URL:https://www.stivoz.gr
X-WR-CALDESC:StivoZ.gr - Εκδηλώσεις
BEGIN:VTIMEZONE
TZID:Europe/Athens
BEGIN:DAYLIGHT
TZOFFSETFROM:+0200
TZOFFSETTO:+0300
TZNAME:EEST
DTSTART:20160327T010000
END:DAYLIGHT
BEGIN:STANDARD
TZOFFSETFROM:+0300
TZOFFSETTO:+0200
TZNAME:EET
DTSTART:20161030T010000
END:STANDARD
END:VTIMEZONE
BEGIN:VEVENT
DTSTART;VALUE=DATE:20160719
DTEND;VALUE=DATE:20160725
DTSTAMP:20260421T025929
CREATED:20150818T172115Z
LAST-MODIFIED:20181218T091502Z
UID:29022-1468918800-1469390400@www.stivoz.gr
SUMMARY:Παγκόσμιο Ε/Ν (Bydgoszcz\,POL)
DESCRIPTION:www.bydgoszcz2016.pl \nΣχετικά θέματα:\n– www.stivoz.com/content.php?5725-To-pagkosmio-E-N-stis-19-24-Iouliou-sto-Bydgoszcz-Me-15-i-Ellada\n– www.stivoz.com/content.php?5730-Bydgoszcz-H-misi-omada-xekinaei-tin-Trti-19-7-sto-pagkosmio-E-N\n– www.stivoz.com/content.php?5732-Bydgoszcz-Prokrisi-mono-gia-Tentoglou-tin-A-imera-Pagkosmio-rekor-o-Bukowiecki\n– www.stivoz.com/content.php?5736-Bydgoszcz-Argyro-metallio-o-Tentoglou-me-7-91m-perase-imitelika-i-Gnafaki-10i-i-Kypria-Fella\n– www.stivoz.com/content.php?5743-Bydgoszcz-Panellinio-rekor-i-Gnafaki-perase-o-Karalis-11-07-i-Hill\n– www.stivoz.com/content.php?5746-Bydgoszcz-Perase-i-Romaiou-2-27-o-Zayas-20-17-o-Norman-Jr\n– hwww.stivoz.com/content.php?5748-Bydgoszcz-Argyro-kai-i-Romaiou-me-13-55-tetartos-o-Karalis-WR-ston-akontismo\n– www.stivoz.com/content.php?5753-Bydgoszcz-Finale-me-amerikaniki-kyriarxia-se-skytales-kai-metallia-12-85-i-Herman-sta-empodia \n– http://www.stivoz.gr/?p=17220 (αποτελέσματα) \n-> Όρια/ επιτεύξεις\n-> TeamManual \n– Συμμετοχές : ανά αγώνισμα / ανά χώρα \n-> συμμετοχές/αποτελέσματα (τις ημέρες των αγώνων) \nΣημείωση: στους τελικούς οριζοντίων αλμάτων και ρίψεων μετά τις 3 προσπαθεις\, συνεχίζουν οι 6 πρώτοι για μια ακόμα. \nΠρόγραμμα (τοπική ώρα\, +1 για Ελλάδα) : \nDAY 1 – Tuesday\, 19 July \n09:30 	100m Dec 	M\n09:35 	Shot Put 	M 	QAB\n09:55 	3000m SC 	W 	R1\n10:05 	Javelin Throw 	W 	QA\n10:20 	Long Jump Dec 	M 	AB\n10:35 	1500m 	M 	R1\n11:10 	800m 	W 	R1\n11:20 	Javelin Throw 	W 	QB\n11:55 	Long Jump 	M 	QAB\n12:05 	100m 	M 	R1\n12:10 	Shot Put Dec 	M 	AB \n17:00 	Pole Vault 	W 	QAB\n17:15 	High Jump Dec 	M 	AB\n18:00 	10\,000m R.Walk 	W 	F\n18:20 	Discus Throw 	W 	QA\n19:10 	400m 	W 	R1\n19:35 	Discus Throw 	W 	QB\n20:00 	Shot Put 	M 	F\n20:05 	400m Dec 	M\n20:30 	10\,000m 	M 	F \nDAY 2 – Wednesday\, 20 July \n09:30 	110m H Dec 	M\n09:40 	Shot Put 	W 	QAB\n09:55 	110m H 	M 	R1\n10:20 	Discus Throw Dec 	M 	A\n10:50 	400m H 	W 	R1\n11:30 	Discus Throw Dec 	M 	B\n11:35 	Triple Jump 	M 	QAB\n11:40 	400m 	M 	R1\n12:35 	100m 	W 	R1\n12:50 	Hammer Throw 	M 	QA\n13:05 	Pole Vault Dec 	M 	AB\n14:10 	Hammer Throw 	M 	QB \n18:00 	Javelin Throw Dec 	M 	A\n18:10 	110m H 	M 	SF\n18:35 	Shot Put 	W 	F\n18:40 	High Jump 	M 	AB\n18:45 	800m 	W 	SF\n19:10 	Javelin Throw Dec 	M 	B\n19:20 	100m 	M 	SF\n19:45 	Long Jump 	M 	F\n19:55 	400m 	W 	SF\n20:25 	3000m 	W 	F\n20:45 	Javelin Throw 	W 	F\n21:00 	1500m Dec 	M 	F\n21:35 	100m 	M 	F \nDAY 3 – Thursday\, 21 July \n09:30 	Hammer Throw 	W 	QA\n09:35 	100m H Hep 	W\n09:40 	Long Jump 	W 	QAB\n09:45 	Pole Vault 	M 	QAB\n10:00 	3000m SC 	M 	R1\n10:35 	400m H 	M 	R1\n10:40 	High Jump Hep 	W 	AB\n10:55 	Hammer Throw 	W 	QB\n11:30 	200m 	M 	R1 \n18:00 	Shot Put Hep 	W 	AB\n18:05 	100m 	W 	SF\n18:25 	Pole Vault 	W 	F\n18:30 	200m 	M 	SF\n18:50 	Discus Throw 	W 	F\n18:55 	400m H 	W 	SF\n19:20 	200m Hep 	W\n19:45 	400m 	M 	SF\n20:10 	Triple Jump 	M 	F\n20:15 	400m 	W 	F\n20:25 	1500m 	M 	F\n20:45 	800m 	W 	F\n21:00 	110m H 	M 	F\n21:20 	100m 	W 	F \nDAY 4 – Friday\, 22 July 	 \n09:30 	Javelin Throw 	M 	QA\n09:35 	100m H 	W 	R1\n10:10 	Long Jump Hep 	W 	AB\n10:15 	High Jump 	W 	QAB\n10:25 	800m 	M 	R1\n10:50 	Javelin Throw 	M 	QB\n11:20 	1500m 	W 	R1\n11:50 	Triple Jump 	W 	QAB\n12:00 	200m 	W 	R1\n12:25 	Javelin Throw Hep 	W 	A\n13:35 	Javelin Throw Hep 	W 	B \n18:00 	4 x 100m Relay 	W 	R1\n18:20 	High Jump 	M 	F\n18:30 	4 x 100m Relay 	M 	R1\n19:00 	800m Hep 	W 	F\n19:25 	Long Jump 	W 	F\n19:30 	400m H 	M 	SF\n20:00 	3000m SC 	W 	F\n20:25 	Hammer Throw 	M 	F\n20:30 	400m 	M 	F\n20:45 	400m H 	W 	F\n21:00 	200m 	W 	SF\n21:30 	200m 	M 	F \nDAY 5 – Saturday\, 23 July \n09:30 	10\,000m R.Walk 	M 	F\n09:40 	Discus Throw 	M 	QA\n10:30 	5000m 	W 	F\n10:40 	Triple Jump 	W 	F\n11:00 	Discus Throw 	M 	QB\n11:10 	4 x 400m Relay 	W 	R1\n11:45 	4 x 400m Relay 	M 	R1 \n17:00 	Hammer Throw 	W 	F\n17:10 	Pole Vault 	M 	F\n17:15 	100m H 	W 	SF\n17:45 	800m 	M 	SF\n18:20 	200m 	W 	F\n18:40 	Javelin Throw 	M 	F\n18:45 	5000m 	M 	F\n19:15 	400m H 	M 	F\n19:35 	4 x 100m Relay 	M 	F\n19:50 	4 x 100m Relay 	W 	F \nDAY 6 – Sunday 24 July 	 \n16:00 	High Jump 	W 	F\n16:05 	100m H 	W 	F\n16:10 	Discus Throw 	M 	F\n16:20 	3000m SC 	M 	F\n16:45 	1500m 	W 	F\n17:10 	800m 	M 	F\n17:30 	4 x 400m Relay 	W 	F\n17:50 	4 x 400m Relay 	M 	F
URL:https://www.stivoz.gr/event/bydgoszcz2016/
CATEGORIES:Ημερολόγιο αγώνων
END:VEVENT
END:VCALENDAR