BEGIN:VCALENDAR
VERSION:2.0
PRODID:-//StivoZ.gr - ECPv5.16.4//NONSGML v1.0//EN
CALSCALE:GREGORIAN
METHOD:PUBLISH
X-WR-CALNAME:StivoZ.gr
X-ORIGINAL-URL:https://www.stivoz.gr
X-WR-CALDESC:StivoZ.gr - Εκδηλώσεις
BEGIN:VTIMEZONE
TZID:Europe/Athens
BEGIN:DAYLIGHT
TZOFFSETFROM:+0200
TZOFFSETTO:+0300
TZNAME:EEST
DTSTART:20220327T010000
END:DAYLIGHT
BEGIN:STANDARD
TZOFFSETFROM:+0300
TZOFFSETTO:+0200
TZNAME:EET
DTSTART:20221030T010000
END:STANDARD
END:VTIMEZONE
BEGIN:VEVENT
DTSTART;VALUE=DATE:20220318
DTEND;VALUE=DATE:20220321
DTSTAMP:20260419T163613
CREATED:20210426T073104Z
LAST-MODIFIED:20220318T124030Z
UID:76006-1647561600-1647820799@www.stivoz.gr
SUMMARY:Παγκόσμιο κλειστού (Βελιγράδι)
DESCRIPTION:-> ειδική σελίδα \nΣχετικά θέματα:\n– www.stivoz.gr/i-omada-gia-belgrade/ (ελληνική ομάδα)\n– www.stivoz.gr/me-3-i-kypros-sto-veligradi/ (κυπριακή ομάδα)\n– www.stivoz.gr/world-indoor-championships-2022/ (Αποτελέσματα) \n-> Όρια – επιτεύξεις\n-> Ιστορικά παγκοσμίων\n-> Νικητές διοργάνωσης \n->Entry lists by event and season’s best\n->Entry lists by country\n->Start List \nΤηλεοπτική μετάδοση – ΕΡΤ3\n18/3 : 12.00-14.00 & 19.05-22.00\n19/3 : 10.30-14.00 & 19.00-22.30\n20/3 : 11.00-14.00 & 18.00-21.00 \nΠρόγραμμα (σε ώρες Ελλάδος) \nΠαρ. 18/3 \n10:35 W 60μ. εμπ. 5αθλο-1\n10:56 M 60μ. 7αθλο-1\n11:15 W 60μ. προκρ.σειρές\n11:40 M Μήκος 7αθλο-2\n11:55 W Ύψος 5αθλο-2\n12:00 M 400μ. προκρ.σειρές\n12:41 W 400μ. προκρ.σειρές\n13:06 M Σφαιροβολία 7αθλο-3\n13:15 M Τριπλούν Τελικός\n13:20 W 1500μ. προκρ.σειρές\n13:50 M 800μ. προκρ.σειρές\n14:20 W Σφαιροβολία 5αθλο-3\n14:25 M 3000μ. προκρ.σειρές \n18:30 W Μήκος 5αθλο-4\n19:05 W 60μ. ημιτελικά\n19:35 W 400μ. ημιτελικά\n19:50 W Σφαιροβολία Τελικός\n20:05 M Ύψος 7αθλο-4\n20:05 M Μήκος Τελικός\n20:15 M 400μ. ημιτελικά\n20:50 W 800μ. 5αθλο-5\n21:25 W 3000μ. Τελικός\n21:52 W 60μ. Τελικός \nΣαβ. 19/3 \n10:33 M 60μ. εμπ. 7αθλο-5\n10:50 W 60μ. εμπ. προκρ.σειρές\n11:45 M Επί κοντώ 7αθλο-6\n11:45 M 60μ. προκρ.σειρές\n12:05 W Ύψος Τελικός\n12:45 W 800μ. προκρ.σειρές\n13:15 M 1500μ. προκρ.σειρές \n19:08 W Επί κοντώ Τελικός\n19:15 W 60μ. εμπ. ημιτελικά\n19:40 M 60μ. ημιτελικά\n20:10 M 800μ. Τελικός\n20:25 M 1000μ. 7αθλο-7\n20:40 M Σφαιροβολία Final\n20:55 W 400μ. Τελικός\n21:15 M 400μ. Τελικός\n21:35 W 1500μ. Τελικός\n22:08 W 60μ. εμπ. Τελικός\n22:20 M 60μ. Τελικός \nΚυρ. 20/3 \n11:05 M 60μ. εμπ. προκρ.σειρές\n11:45 M Ύψος Τελικός\n12:00 W Τριπλούν Τελικός\n12:10 W 4×400μ. προκρ.σειρές\n12:45 M 4×400μ. προκρ.σειρές\n13:10 M 3000μ. Τελικός \n17:35 M Επί κοντώ Τελικός\n18:05 M 60μ. εμπ. ημιτελικά\n18:37 W Μήκος Τελικός\n19:05 W 800μ. Τελικός\n19:35 M 1500μ. Τελικός\n20:25 M 60μ. εμπ. Τελικός\n20:40 W 4×400μ. Τελικός\n20:55 M 4×400μ. Τελικός
URL:https://www.stivoz.gr/event/belgrade2022/
CATEGORIES:Ημερολόγιο αγώνων
END:VEVENT
END:VCALENDAR