BEGIN:VCALENDAR
VERSION:2.0
PRODID:-//StivoZ.gr - ECPv5.16.4//NONSGML v1.0//EN
CALSCALE:GREGORIAN
METHOD:PUBLISH
X-WR-CALNAME:StivoZ.gr
X-ORIGINAL-URL:https://www.stivoz.gr
X-WR-CALDESC:StivoZ.gr - Εκδηλώσεις
BEGIN:VTIMEZONE
TZID:Europe/Athens
BEGIN:DAYLIGHT
TZOFFSETFROM:+0200
TZOFFSETTO:+0300
TZNAME:EEST
DTSTART:20080330T010000
END:DAYLIGHT
BEGIN:STANDARD
TZOFFSETFROM:+0300
TZOFFSETTO:+0200
TZNAME:EET
DTSTART:20081026T010000
END:STANDARD
END:VTIMEZONE
BEGIN:VEVENT
DTSTART;VALUE=DATE:20080808
DTEND;VALUE=DATE:20080825
DTSTAMP:20260420T105512
CREATED:20070805T234917Z
LAST-MODIFIED:20240731T090946Z
UID:28108-1218153600-1219622399@www.stivoz.gr
SUMMARY:29οι Ολυμπιακοί Αγώνες - Πεκίνο
DESCRIPTION:Στίβος: 15-24/9 \nNewsletter: www.stivoz.com/dimosiografikes/Newsletters/StivoZ.gr_Newsletter_2.pdf \nΣχετικά θέματα:\nhttp://www.stivoz.gr/?p=16744 (αποτελέσματα)\nhttp://www.stivoz.gr/?p=20342 (ελληνική αποστολή)\nhttp://www.stivoz.gr/?p=20323\nhttp://www.stivoz.gr/?p=20342 (έναρξη)\nhttp://www.stivoz.com/forum/showthread.php?t=2321 (σχολιασμός)\nhttp://www.stivoz.gr/?p=20357 (αποστολές) \nhttp://www.stivoz.com/forum/showthread.php?t=2347 (αν.1)\nhttp://www.stivoz.gr/?p=20346 (1η πρωι)\nhttp://www.stivoz.gr/?p=20347 (1η απογ.)\nhttp://www.stivoz.gr/?p=20347 (αν.2)\nhttp://www.stivoz.gr/?p=20348 (2η πρωι)\nhttp://www.stivoz.gr/?p=20349 (2η απογ.)\nhttp://www.stivoz.gr/?p=20347 (αν.3)\nhttp://www.stivoz.gr/?p=20350 (3η)\nhttp://www.stivoz.com/forum/showthread.php?t=2360 (αν.4)\nhttp://www.stivoz.gr/?p=20353 (4η πρωι)\nhttp://www.stivoz.gr/?p=20354 (4η απογ.)\nhttp://www.stivoz.gr/?p=20353 (αν.5)\nhttp://www.stivoz.gr/?p=20357 (5η πρωι)\nhttp://www.stivoz.gr/?p=20353 (5η απογ.)\nhttp://www.stivoz.gr/?p=20358 (αν.6)\nhttp://www.stivoz.gr/?p=20359 (6η)\nhttp://www.stivoz.com/forum/showthread.php?t=2380 (αν.7)\nhttp://www.stivoz.gr/?p=20360 (7η πρωι)\nhttp://www.stivoz.gr/?p=20361 (7η απογ.)\nhttp://www.stivoz.gr/?p=20361 (αν.8η)\nhttp://www.stivoz.gr/?p=20363 (8η)\nhttp://www.stivoz.gr/?p=20366 (αν.9)\nhttp://www.stivoz.gr/?p=20364 (9η)\nhttp://www.stivoz.gr/?p=20365 (10η) \nhttp://en.beijing2008.cn/ \nπρόγραμμα στίβου: http://www.stivoz.com/media/programma_oa_stivos.pdf
URL:https://www.stivoz.gr/event/beijing2008/
CATEGORIES:Ημερολόγιο αγώνων
END:VEVENT
END:VCALENDAR