BEGIN:VCALENDAR
VERSION:2.0
PRODID:-//StivoZ.gr - ECPv5.16.4//NONSGML v1.0//EN
CALSCALE:GREGORIAN
METHOD:PUBLISH
X-WR-CALNAME:StivoZ.gr
X-ORIGINAL-URL:https://www.stivoz.gr
X-WR-CALDESC:StivoZ.gr - Εκδηλώσεις
BEGIN:VTIMEZONE
TZID:Europe/Athens
BEGIN:DAYLIGHT
TZOFFSETFROM:+0200
TZOFFSETTO:+0300
TZNAME:EEST
DTSTART:20120325T010000
END:DAYLIGHT
BEGIN:STANDARD
TZOFFSETFROM:+0300
TZOFFSETTO:+0200
TZNAME:EET
DTSTART:20121028T010000
END:STANDARD
END:VTIMEZONE
BEGIN:VEVENT
DTSTART;VALUE=DATE:20120710
DTEND;VALUE=DATE:20120716
DTSTAMP:20260419T160541
CREATED:20101008T223024Z
LAST-MODIFIED:20181218T100432Z
UID:28508-1341910800-1342386000@www.stivoz.gr
SUMMARY:14o Παγκόσμιο Πρωτάθλημα Ε/Ν (Barcelona)
DESCRIPTION:www.bcn2012.org/ \, IAAF: www.iaaf.org/mini/wjc12/index.aspx \nπρόγραμμα: 2012Barcelona_timetable.pdf \nΣχετικά θέματα:\n– www.stivoz.com/forum/showthread.php?7192 (ομάδα)\n– www.stivoz.com/forum/showthread.php?7233 (όλα τα χρήσιμα στοιχεία / links)\n– www.stivoz.com/forum/showthread.php?7243 (Α’ ημέρα)\n– www.stivoz.com/forum/showthread.php?7249 (Β’ ημέρα)\n– www.stivoz.com/forum/showthread.php?7252 (Γ’ ημέρα)\n– www.stivoz.com/forum/showthread.php?7258 (Δ’ ημέρα)\n– www.stivoz.com/forum/showthread.php?7268 (Ε’ ημέρα) \n– www.stivoz.com/forum/showthread.php?7251 (αποτελέσματα)
URL:https://www.stivoz.gr/event/barcelona2012/
CATEGORIES:Ημερολόγιο αγώνων
END:VEVENT
END:VCALENDAR