BEGIN:VCALENDAR
VERSION:2.0
PRODID:-//StivoZ.gr - ECPv5.16.4//NONSGML v1.0//EN
CALSCALE:GREGORIAN
METHOD:PUBLISH
X-WR-CALNAME:StivoZ.gr
X-ORIGINAL-URL:https://www.stivoz.gr
X-WR-CALDESC:StivoZ.gr - Εκδηλώσεις
BEGIN:VTIMEZONE
TZID:Europe/Athens
BEGIN:DAYLIGHT
TZOFFSETFROM:+0200
TZOFFSETTO:+0300
TZNAME:EEST
DTSTART:20100328T010000
END:DAYLIGHT
BEGIN:STANDARD
TZOFFSETFROM:+0300
TZOFFSETTO:+0200
TZNAME:EET
DTSTART:20101031T010000
END:STANDARD
END:VTIMEZONE
BEGIN:VEVENT
DTSTART;VALUE=DATE:20100727
DTEND;VALUE=DATE:20100802
DTSTAMP:20260422T034236
CREATED:20070921T082213Z
LAST-MODIFIED:20181218T102404Z
UID:28153-1280214000-1280700000@www.stivoz.gr
SUMMARY:20ο Πανευρωπαικό Πρωτάθλημα Στίβου - Βαρκελώνη
DESCRIPTION:www.bcn2010.org \nΣχετικά θέματα:\n–http://www.stivoz.gr/?p=10621 (Κύπρος)\n–http://www.stivoz.gr/?p=10619 (Ελλάδα)\n–http://www.stivoz.gr/?p=10617\n–http://www.stivoz.gr/?p=10615\n–http://www.stivoz.gr/?p=10613 (1η ημέρα)\n–http://www.stivoz.gr/?p=10611 (2η – πρωι)\n–http://www.stivoz.gr/?p=10609 (2η απόγευμα)\n–http://www.stivoz.gr/?p=10607 (3η – πρωι)\n–http://www.stivoz.gr/?p=10605 (3η απόγευμα)\n–http://www.stivoz.gr/?p=10603 (4η – πρωι)\n–http://www.stivoz.gr/?p=10601 (4η απόγευμα)\n–http://www.stivoz.gr/?p=10600 (5η ημέρα)\n–http://www.stivoz.gr/?p=10598 (6η ημέρα) \n–http://www.stivoz.gr/?p=10597 (Αποτελέσματα) \n–http://www.stivoz.com/photoz/index.php?c=95 (φωτογραφίες) \n– Team manual\n– Appendices \n-> Newsletter
URL:https://www.stivoz.gr/event/barcelona2010/
CATEGORIES:Ημερολόγιο αγώνων
END:VEVENT
END:VCALENDAR