BEGIN:VCALENDAR
VERSION:2.0
PRODID:-//StivoZ.gr - ECPv5.16.4//NONSGML v1.0//EN
CALSCALE:GREGORIAN
METHOD:PUBLISH
X-WR-CALNAME:StivoZ.gr
X-ORIGINAL-URL:https://www.stivoz.gr
X-WR-CALDESC:StivoZ.gr - Εκδηλώσεις
BEGIN:VTIMEZONE
TZID:Europe/Athens
BEGIN:STANDARD
TZOFFSETFROM:+0200
TZOFFSETTO:+0200
TZNAME:EET
DTSTART:20080101T000000
END:STANDARD
END:VTIMEZONE
BEGIN:VEVENT
DTSTART;VALUE=DATE:20080719
DTEND;VALUE=DATE:20260420
DTSTAMP:20260419T215646
CREATED:20080718T110342Z
LAST-MODIFIED:20211210T105139Z
UID:28249-1216425600-0@www.stivoz.gr
SUMMARY:Pr.meeting Βαρκελώνη
DESCRIPTION:http://www.rfea.es/competi/barcelonameeting/eng/eng_permit_meeting.asp \n18.30 400m hurdles Men Local\n18.40 400m hurdles Women Local\n18.50 400m   Men Local\n18.55 800m Women Local\n19.00 Pole Vault Women Final\n19.05 800m Men Local\n19.15 200m Men Local\n19.15 Triple Jump Women Final\n19.20 200m Women Final B\n19.30 400m Men Final B\n19.40 800m Women Final B\n19.45 Javelin Women Final\n19.47 800m Men Final B\n19.55 1.500m Men Final B\n20.00 High Jump Men Final\n20.05 100m hurdles Women Final B\n20.15 100m hurdles Women Final A\n20.25 110m hurdles Men Final B\n20.35 110m hurdles Men Final A\n20.40 1.500m Men Final A\n20.50 3.000m st. Women Final\n21.07 200m Women Final A\n21.10 Long Jump Men Final\n21.12 200m Men Final A\n21.15 Discus Men Final\n21.20 400m Men Final A\n21.27 800m Women Final A\n21.35 800m Men Final A\n21.42 5.000m Women Final\n22.05 1.500m Women Final\n22.15 5.000m Men Final
URL:https://www.stivoz.gr/event/barcelona-2008/
CATEGORIES:Ημερολόγιο αγώνων
END:VEVENT
END:VCALENDAR