BEGIN:VCALENDAR
VERSION:2.0
PRODID:-//StivoZ.gr - ECPv5.16.4//NONSGML v1.0//EN
CALSCALE:GREGORIAN
METHOD:PUBLISH
X-WR-CALNAME:StivoZ.gr
X-ORIGINAL-URL:https://www.stivoz.gr
X-WR-CALDESC:StivoZ.gr - Εκδηλώσεις
BEGIN:VTIMEZONE
TZID:Europe/Athens
BEGIN:DAYLIGHT
TZOFFSETFROM:+0200
TZOFFSETTO:+0300
TZNAME:EEST
DTSTART:20080330T010000
END:DAYLIGHT
BEGIN:STANDARD
TZOFFSETFROM:+0300
TZOFFSETTO:+0200
TZNAME:EET
DTSTART:20081026T010000
END:STANDARD
END:VTIMEZONE
BEGIN:VEVENT
DTSTART;VALUE=DATE:20080719
DTEND;VALUE=DATE:20080721
DTSTAMP:20260419T201245
CREATED:20071013T092829Z
LAST-MODIFIED:20181218T105710Z
UID:28174-1216483200-1216587600@www.stivoz.gr
SUMMARY:Βαλκανικοί Α/Γ (Αργος Ορεστικο)
DESCRIPTION:Σχετικά θέματα:\nhttp://www.stivoz.gr/?p=16736 (αποτελέσματα) \n1η ημέρα \, Σαβ.19/7  \n17:00 Σφυρα Α\n17:15 Τελετη εναρξης\n17:40 Επικοντω Γ\n18:00 400m εμποδια Α **\n18:15 Τριπλουν Γ\n18:20 400m εμποδια Γ\n18:25 Σφαιρα Α\n18:30 1500m Α\n18:35 Σφυρα Γ\n18:40 400m Α **\n19:00 400m Γ **\n19:20 3000m Γ\n19:35 Υψος Α\n19:40 800m Γ\n19:50 3.000m στηπλ Γ\n19:55 Ακοντιο Γ\n20:00 Μηκος Α\n20:05 Δισκος Γ\n20:10 100m Α **\n20:25 100m Γ **\n20:40 5000m Α\n21:10 4 x 100m Α\n21:20 4 x 100m Γ \n2η ημέρα \, Κυρ.20/7 \n17:35 Επικοντω Α\n17:50 Δισκος Α\n18:00 110m εμποδια Α **\n18:10 Σφαιρα Γ\n18:20 100m εμποδια Γ\n18:25 Τριπλουν Α\n18:30 800m Α\n18:40 3000m Α\n19:00 Υψος Γ\n19:05 1500m Γ\n19:15 3000m στηπλ Α\n19:35 200m Α **\n19:40 Ακοντιο Α\n19:45 Μηκος Γ\n19:55 200m Γ **\n20:10 5000m Γ\n20:40 4 x 400m Α\n20:50 4 x 400m Γ \n** = 2 σειρές
URL:https://www.stivoz.gr/event/balkaniko2008/
CATEGORIES:Ημερολόγιο αγώνων
END:VEVENT
END:VCALENDAR