BEGIN:VCALENDAR
VERSION:2.0
PRODID:-//StivoZ.gr - ECPv5.16.4//NONSGML v1.0//EN
CALSCALE:GREGORIAN
METHOD:PUBLISH
X-WR-CALNAME:StivoZ.gr
X-ORIGINAL-URL:https://www.stivoz.gr
X-WR-CALDESC:StivoZ.gr - Εκδηλώσεις
BEGIN:VTIMEZONE
TZID:Europe/Athens
BEGIN:DAYLIGHT
TZOFFSETFROM:+0200
TZOFFSETTO:+0300
TZNAME:EEST
DTSTART:20240331T010000
END:DAYLIGHT
BEGIN:STANDARD
TZOFFSETFROM:+0300
TZOFFSETTO:+0200
TZNAME:EET
DTSTART:20241027T010000
END:STANDARD
END:VTIMEZONE
BEGIN:VEVENT
DTSTART;VALUE=DATE:20240525
DTEND;VALUE=DATE:20240527
DTSTAMP:20260419T194338
CREATED:20240521T100620Z
LAST-MODIFIED:20240528T072327Z
UID:115418-1716595200-1716767999@www.stivoz.gr
SUMMARY:Βαλκανικό Α/Γ (Σμύρνη)
DESCRIPTION:κατ. “B” \nΣχετικά θέματα:\n– www.stivoz.gr/me-megali-omada-sti-smyrni/ (Ελληνική ομάδα)\n– www.stivoz.gr/i-omada-tis-kyproy-gia-to-valkaniko/ (Κυπριακή ομάδα)\n– www.stivoz.gr/valkanikoi-kai-notia-kypros/\n– www.stivoz.gr/smyrni-xechorisan-tentogloy-polak-andreoglou/\n– www.stivoz.gr/balkan-2024/ (αποτελέσματα) \n-> ιστορικό \nΠρόγραμμα: \nΣΑΒ. 25/5 \n10:00 100m Hurdles Hept. Women\n10:10 100m Decathlon Men\n10:20 100m SF Men\n10:40 High Jump Heptathlon Women\n10:45 100m SF Women\n10:50 Long Jump Decathlon Men\n11:40 Shot Put Decathlon Men\n13:00 Shot Put Heptathlon Women \n15:45 Opening ceremony\n15:55 Discus Throw Women\n16:00 400m Hurdles Women\n16:05 High Jump Decathlon Men\n16:10 Long Jump Men\n16:15 400m Hurdles Men\n16:25 Pole Vault Women\n16:35 400m Men\n16:55 400m Women\n17:00 200m Heptathlon Women\n17:15 800m Women\n17:20 Javelin Throw Women\n17:30 1500m Men\n17:45 100m F Women\n17:55 100m F Men\n18:00 High Jump Men\n18:05 Triple Jump Women\n18:10 3000m Women\n18:25 3000m Steeple Women\n18:35 Shot Put Men\n18:40 Hammer Throw Men\n18:50 400m Decathlon Men\n19:00 4x400m Mixed Relay Mix\n19:10 5000m Men\n19:35 4x100m Relay Men\n19:45 4x100m Relay Women \nΚΥΡ. 26/5 \n10:00 110m Hurdles Decathlon Men\n11:00 Long Jump Heptathlon Women\n11:30 Discus Throw Decathlon Men\n12:30 Javelin Throw Heptathlon Women\n13:00 Pole Vault Decathlon Men \n15:45 High Jump Women\n15:50 Javelin Throw Decathlon Men\n16:00 110m Hurdles Men\n16:25 100m Hurdles Women\n16:30 Hammer Throw Women\n16:35 Triple Jump Men\n16:50 200m Men\n17:10 200m Women\n17:30 800m Men\n17:35 Pole Vault Men\n17:40 800m Heptathlon Women\n17:45 Discus Throw Men\n17:50 1500m Decathlon Men\n18:00 1500m Women\n18:15 3000m Men\n18:25 Long Jump Women\n18:40 Shot Put Women\n18:35 3000m Steeple Men\n18:55 5000m Women\n19:05 Javelin Throw Men\n19:20 4x400m Relay Men\n19:35 4x400m Relay Women
URL:https://www.stivoz.gr/event/balkaniko-2024/
CATEGORIES:Ημερολόγιο αγώνων
END:VEVENT
END:VCALENDAR