BEGIN:VCALENDAR
VERSION:2.0
PRODID:-//StivoZ.gr - ECPv5.16.4//NONSGML v1.0//EN
CALSCALE:GREGORIAN
METHOD:PUBLISH
X-WR-CALNAME:StivoZ.gr
X-ORIGINAL-URL:https://www.stivoz.gr
X-WR-CALDESC:StivoZ.gr - Εκδηλώσεις
BEGIN:VTIMEZONE
TZID:Europe/Athens
BEGIN:DAYLIGHT
TZOFFSETFROM:+0200
TZOFFSETTO:+0300
TZNAME:EEST
DTSTART:20190331T010000
END:DAYLIGHT
BEGIN:STANDARD
TZOFFSETFROM:+0300
TZOFFSETTO:+0200
TZNAME:EET
DTSTART:20191027T010000
END:STANDARD
END:VTIMEZONE
BEGIN:VEVENT
DTSTART;VALUE=DATE:20190902
DTEND;VALUE=DATE:20190904
DTSTAMP:20260420T015646
CREATED:20181221T204123Z
LAST-MODIFIED:20230404T124113Z
UID:41246-1567382400-1567555199@www.stivoz.gr
SUMMARY:Βαλκανικό Α/Γ (Pravets)
DESCRIPTION:->livestream\n->συμμετοχές \nΣχετικά θέματα:\n– https://www.stivoz.gr/i-omada-gia-to-valkaniko/\n– https://www.stivoz.gr/i-omada-tis-kyproy-gia-to-pravets/\n– https://www.stivoz.gr/pravets-megali-voli-kai-orio-o-frantzeskakis/\n– https://www.stivoz.gr/pravets-orio-kai-i-eir-vasileioy/\n– https://www.stivoz.gr/pravets-orio-i-skarveli-sti-sfyrovolia/\n– https://www.stivoz.gr/pravets-me-to-ena-podi-doha-kai-i-spanoydaki/\n– https://www.stivoz.gr/pravets-2i-i-ellada-me-kali-paroysia-sto-valkaniko-2-xrysa-i-kypros/ \n\nhttps://www.stivoz.gr/balkan-2019/ (αποτελέσματα)\n\n-> ιστορικό Βαλκανικών\n-> Βαλκανικά ρεκόρ\n-> ABAF (Balkan) Championships regulations \nΠρόγραμμα: (ίδια ώρα τοπική & Ελλάδος) \nΔΕ 2/9 \n09:30 100 m H (0.838 m) Women Heptathlon – 1 \n09:50 100 m Men Decathlon – 1 \n10:15 High Jump Women Heptathlon – 2 \n10:35 Long Jump Men Decathlon – 2 \n11:40 Shot Put (7.260 kg) Men Decathlon – 3\n12:20 Hammer Throw (7.260 kg) Men Final\n12:40 Shot Put (4.000 kg) Women Heptathlon – 3 \n14:30 3000 m Women Final\n14:40 Pole Vault Women Final\n15:00 High Jump Men Decathlon – 4\n15:05 400 m H (0.914 m) Men Final by time\n15:10 Discus Throw (1.000 kg) Women Final\n15:40 400 m H (0.838 m) Women Final by time\n15:50 Long Jump Men Final\n16:00 400 m Women Final by time\n16:20 400 m Men Final by time \n16:40 Opening Ceremony \n17:05 100 m Women Semi-Final\n17:10 Shot Put (7.260 kg) Men Final\n17:20 100 m Men Semi-Final\n17:37 3000 m SC (0.838 m) Women Final\n17:55 200 m Women Heptathlon – 4\n18:00 High Jump Men Final\n18:10 5000 m Men Final\n18:25 Triple Jump Women Final\n18:30 100 m Women Final\n18:35 Javelin Throw (600 g) Women Final\n18:40 100 m Men Final\n18:52 1500 m Men Final\n19:05 800 m Women Final by time\n19:17 400 m Men Decathlon – 5\n19:37 4х100 m Women Final\n19:50 4х100 m Men Final \nΤΡ 3/9 \n09:20 110 m H (1.067 m) Men Decathlon – 6 \n09:35 Long Jump Women Heptathlon – 5\n09:55 Discus Throw (2.000 kg) Men Decathlon – 7\n11:00 Discus Throw (2.000 kg) Men Final\n11:30 Pole Vault Men Decathlon – 8\n13:15 Hammer Throw (4.000 kg) Women Final \n15:25 Javelin Throw (600 g) Women Heptathlon – 6\n15:45 Pole Vault Men Final\n16:00 3000 m Men Final by time\n16:10 Long Jump Women Final\n16:30 Javelin Throw (800 g) Men Decathlon – 9\n16:32 100 m H (0.838 m) Women Final by time\n17:15 110 m H (1.067 m) Men Final by time\n17:27 3000 m SC (0.914 m) Men Final\n17:30 Shot Put (4.000 kg) Women Final\n17:48 200 m Women Final by time\n18:03 High Jump Women Final\n18:05 200 m Men Final by time\n18:20 1500 m Men Decathlon -10\n18:27 Triple Jump Men Final\n18:30 1500 m Women Final\n18:35 Javelin Throw (800 g) Men Final\n18:45 800 m Men Final by time\n18:55 800 m Women Heptathlon -7\n19:10 5000 m Women Final\n19:32 4х400 m Women Final\n19:52 4х400 m Men Final
URL:https://www.stivoz.gr/event/balkaniko-2019/
CATEGORIES:Ημερολόγιο αγώνων
END:VEVENT
END:VCALENDAR