BEGIN:VCALENDAR
VERSION:2.0
PRODID:-//StivoZ.gr - ECPv5.16.4//NONSGML v1.0//EN
CALSCALE:GREGORIAN
METHOD:PUBLISH
X-WR-CALNAME:StivoZ.gr
X-ORIGINAL-URL:https://www.stivoz.gr
X-WR-CALDESC:StivoZ.gr - Εκδηλώσεις
BEGIN:VTIMEZONE
TZID:Europe/Athens
BEGIN:DAYLIGHT
TZOFFSETFROM:+0200
TZOFFSETTO:+0300
TZNAME:EEST
DTSTART:20130331T010000
END:DAYLIGHT
BEGIN:STANDARD
TZOFFSETFROM:+0300
TZOFFSETTO:+0200
TZNAME:EET
DTSTART:20131027T010000
END:STANDARD
END:VTIMEZONE
BEGIN:VEVENT
DTSTART;VALUE=DATE:20130727
DTEND;VALUE=DATE:20130729
DTSTAMP:20260419T200151
CREATED:20130111T141128Z
LAST-MODIFIED:20230404T124255Z
UID:28759-1374940800-1375045200@www.stivoz.gr
SUMMARY:Βαλκανικοί Α/Γ (Βουλγαρία)
DESCRIPTION:-> Πρόγραμμα \nΣχετικά θέματα:\n– www.stivoz.com/forum/showthread.php?9542 (ομάδα)\n– www.stivoz.com/forum/showthread.php?9578 (Α’ ημέρα)\n– www.stivoz.com/forum/showthread.php?9581 (Β’ ημέρα)\n– www.stivoz.com/forum/showthread.php?9579 (αποτελέσματα)
URL:https://www.stivoz.gr/event/balkaniko-2013/
CATEGORIES:Ημερολόγιο αγώνων
END:VEVENT
END:VCALENDAR