BEGIN:VCALENDAR
VERSION:2.0
PRODID:-//StivoZ.gr - ECPv5.16.4//NONSGML v1.0//EN
CALSCALE:GREGORIAN
METHOD:PUBLISH
X-WR-CALNAME:StivoZ.gr
X-ORIGINAL-URL:https://www.stivoz.gr
X-WR-CALDESC:StivoZ.gr - Εκδηλώσεις
BEGIN:VTIMEZONE
TZID:Europe/Athens
BEGIN:DAYLIGHT
TZOFFSETFROM:+0200
TZOFFSETTO:+0300
TZNAME:EEST
DTSTART:20190331T010000
END:DAYLIGHT
BEGIN:STANDARD
TZOFFSETFROM:+0300
TZOFFSETTO:+0200
TZNAME:EET
DTSTART:20191027T010000
END:STANDARD
END:VTIMEZONE
BEGIN:VEVENT
DTSTART;VALUE=DATE:20190702
DTEND;VALUE=DATE:20190704
DTSTAMP:20260421T123202
CREATED:20190626T212723Z
LAST-MODIFIED:20190710T170339Z
UID:52502-1562025600-1562198399@www.stivoz.gr
SUMMARY:Βαλκανικό Ε/Ν (Cluj)
DESCRIPTION:Σχετικά θέματα:\n– https://www.stivoz.gr/i-omada-gia-to-valkaniko-e-n-stis-2-3-7-sto-cluj/\n– https://www.stivoz.gr/i-kypros-me-8-sto-valkaniko-e-n/\n– https://www.stivoz.gr/cluj-xrysi-i-johnson-xana-konta-sto-orio-o-detsikas/\n– https://www.stivoz.gr/cluj-3-3-ta-metallia-gia-tin-kypro-tin-1i-imera/\n– https://www.stivoz.gr/cluj-dyo-argyra-ki-ena-akoma-xalkino-i-kypros-ti-2i-imera/\n– https://www.stivoz.gr/cluj-xrysi-kai-i-logdanidoy-argyro-me-pb-o-kalogerakis/\n– https://www.stivoz.gr/balkan-u20-2019/ (αποτελέσματα) \n-> όρια Boras2019 \n-> Livestream \nΠρόγραμμα: \nΤΡΙΤΗ 2/7 \n09:00 5000μ. Ε\n09:30 100μ. εμπ 7θλου\n09:40 100μ 10θλου\n10:15 Ύψος 7θλου\n10:15 Μήκος 10θλου\n11:30 Σφαίρα 10θλου (parc)\n12:00 Σφαίρα 7θλου (parc) \n15:45 Σφύρα Ε (parc)\n17:30 Ύψος 10θλου\n18:30 Τελετή έναρξης\n19:00 Επί κοντώ Ν\n19:00 Δίσκος Ν\n19:00 200μ. 7θλου\n19:15 400μ. 10θλου\n19:15 Μήκος Ε\n19:25 400μ. Ν\n19:30 Σφαίρα Ε\n19:35 400μ. Ε\n19:55 100μ. Ν προκρ.\n20:00 Ύψος Ε\n20:10 100μ. Ε προκρ.\n20:25 1500μ. Ε\n20:30 Ακόντιο Ν\n20:40 400μ. εμπ. Ε\n20:45 Τριπλούν Ν\n20:55 400μ. εμπ. Ν\n21:10 100μ. Ν τελικός\n21:20 100μ. Ε τελικός\n21:30 3000μ. στ. Ν\n21:45 800μ. Ν\n22:00 3000μ. Ν\n22:15 4χ100μ. Ν\n22:25 4χ100μ. Ε \nΤΕΤΑΡΤΗ 3/7 \n09:00 5000μ. Ν\n09:30 110μ. εμπ. 10θλου\n09:30 Μήκος 7θλου\n10:15 Δίσκος 10θλου\n10:30 Ακόντιο 7θλου\n11:00 Επί κοντώ 10θλου \n17:30 Σφύρα Ν (parc)\n18:00 Ακόντιο 10θλου\n18:00 800μ. 7θλου\n19:00 1500μ. 10θλου\n19:00 Δίσκος Ε\n19:00 Επί κοντώ Ε\n19:00 Μήκος Ν\n19:10 200μ. Ν\n19:30 200μ. Ε\n19:30 Σφαίρα Ν (parc)\n19:45 1500μ. Ν\n20:00 800μ. Ε\n20:15 110μ. εμπ. Ε\n20:35 100μ. εμπ. Ν\n20:45 Τριπλούν Ε\n20:50 3000μ. στ. Ε\n21:00 Ύψος Ν\n21:00 Ακόντιο Ε\n21:05 3000μ. Ε\n21:25 4χ400μ Ν\n21:40 4χ400μ. Ε
URL:https://www.stivoz.gr/event/balkan-u20-2019/
CATEGORIES:Ημερολόγιο αγώνων
END:VEVENT
END:VCALENDAR