BEGIN:VCALENDAR
VERSION:2.0
PRODID:-//StivoZ.gr - ECPv5.16.4//NONSGML v1.0//EN
CALSCALE:GREGORIAN
METHOD:PUBLISH
X-WR-CALNAME:StivoZ.gr
X-ORIGINAL-URL:https://www.stivoz.gr
X-WR-CALDESC:StivoZ.gr - Εκδηλώσεις
BEGIN:VTIMEZONE
TZID:Europe/Athens
BEGIN:DAYLIGHT
TZOFFSETFROM:+0200
TZOFFSETTO:+0300
TZNAME:EEST
DTSTART:20150329T010000
END:DAYLIGHT
BEGIN:STANDARD
TZOFFSETFROM:+0300
TZOFFSETTO:+0200
TZNAME:EET
DTSTART:20151025T010000
END:STANDARD
END:VTIMEZONE
BEGIN:VEVENT
DTSTART;VALUE=DATE:20150704
DTEND;VALUE=DATE:20150706
DTSTAMP:20260419T202440
CREATED:20141220T215044Z
LAST-MODIFIED:20190710T165127Z
UID:28968-1436000400-1436130000@www.stivoz.gr
SUMMARY:Βαλκανικό Ε/Ν (Ρουμανία)
DESCRIPTION:-> Livestream\n-> Αποτελέσματα\n-> TeamManual \nΣχετικά θέματα:\n– www.stivoz.com/content.php?5048-Oi-apostoles-gia-ta-balkanika\n– www.stivoz.com/content.php?5056-Me-kakokairia-kai-2-xrysa-i-A-imera-balkanikon-E-N\n– www.stivoz.com/content.php?5061-Finale-me-4-xrysa-sto-balkaniko-E-N \n– www.stivoz.com/forum/showthread.php?14049 (αποτελέσματα)
URL:https://www.stivoz.gr/event/balkan-u20-2015/
CATEGORIES:Ημερολόγιο αγώνων
END:VEVENT
END:VCALENDAR