BEGIN:VCALENDAR
VERSION:2.0
PRODID:-//StivoZ.gr - ECPv5.16.4//NONSGML v1.0//EN
CALSCALE:GREGORIAN
METHOD:PUBLISH
X-WR-CALNAME:StivoZ.gr
X-ORIGINAL-URL:https://www.stivoz.gr
X-WR-CALDESC:StivoZ.gr - Εκδηλώσεις
BEGIN:VTIMEZONE
TZID:Europe/Athens
BEGIN:DAYLIGHT
TZOFFSETFROM:+0200
TZOFFSETTO:+0300
TZNAME:EEST
DTSTART:20140330T010000
END:DAYLIGHT
BEGIN:STANDARD
TZOFFSETFROM:+0300
TZOFFSETTO:+0200
TZNAME:EET
DTSTART:20141026T010000
END:STANDARD
END:VTIMEZONE
BEGIN:VEVENT
DTSTART;VALUE=DATE:20140705
DTEND;VALUE=DATE:20140707
DTSTAMP:20260419T163259
CREATED:20140224T115136Z
LAST-MODIFIED:20190710T165226Z
UID:28875-1404579600-1404680400@www.stivoz.gr
SUMMARY:Βαλκανικοί Ε/Ν (Σέρρες)
DESCRIPTION:www.segas.gr/index.php/el/balcans-45th\nΤο απογευματινό πρόγραμμα των αγώνων και των δύο ημέρων θα μεταδοθεί ζωντανά μέσα από το site του ΣΕΓΑΣ. \nΣχετικά θέματα:\n– www.stivoz.com/content.php?4120-Proponitiko-camp-H-omada-gia-to-balkaniko-E-N (Ελληνική ομάδα)\n– www.stivoz.com/content.php?4133-Balkanikoi-E-N-omada-Kyproy (Κυπριακή ομάδα)\n– www.stivoz.com/content.php?4135-Orio-i-Terzaki-kales-emfaniseis-efivoi-neanides-stis-Serres\n– www.stivoz.com/content.php?4137-Megali-voli-o-Kyriazis-Orio-o-Ntamotsidis-sto-balkaniko-E-N-stis-Serres\n– www.stivoz.com/forum/showthread.php?12137 (αποτελέσματα)\n-> video \nΠρόγραμμα: \n Σάββατο (5/7) \n09.30 100 μ. 10θλο\n09.45 100 μ. εμπ. 7θλο\n10.10 Μήκος 10θλο\n10.30 Υψος 7θλο\n11.15 Σφαιροβολία 10θλο \n16.00 Σφυροβολία (Ε)\n17.00 Υψος 10θλο\n17.00 Σφαιροβολία 7θλο\n17.15 Επί κοντώ (Ν)\n17.45 ΤΕΛΕΤΗ ΕΝΑΡΞΗΣ\n18.00 Δισκοβολία (Ν)\n18.05 400 μ. εμπ. (Ν) 1 σειρά\n18.12 400 μ. εμπ. (Ν) 2η σειρά\n18.20 400 μ. εμπ. (Ε) 1η σειρά\n18.27 400 μ. εμπ. (Ε) 2η σειρά\n18.30 Μήκος (Ε)\n18.35 100 μ. (Γ) 1η σειρά\n18.41 100 μ. (Γ) 2η σειρά\n18.50 100 μ. (Α) 1η σειρά\n18.56 100 μ. (Α) 2η σειρά\n19.05 800 μ. (Γ)\n19.10 Σφαιροβολία (Ε)\n19.15 1.500 μ. (Ε)\n19.20 Υψος (Ε)\n19.25 400 μ. (Ν) 1η σειρά\n19.31 400 μ. (Ν) 2η σειρά\n19.40 400 μ. (Ε) 1η σειρά\n19.46 400 μ. (Ε) 2η σειρά\n19.55 Ακοντισμός (Ν)\n20.00 200 μ. 7θλο\n20.05 Τριπλούν (Ν)\n20.10 3.000 μ. στιπλ (Ν)\n20.25 400 μ. 10θλο\n20.35 5.000 μ. (Ν)\n20.55 4Χ100 μ. (Ν) 1η σειρά\n21.04 4Χ100 μ. (Ν) 2η σειρά\n21.15 4Χ100 μ. (Ε) 1η σειρά\n21.24 4Χ100 μ. (Ε) 2η σειρά \nΚυριακή (6/7) \n09.00 110 μ. εμπ. 10θλο\n09.45 Δισκοβολία 10θλο\n10.00 Μήκος 7θλο\n10.45 Ακοντισμός 7θλο\n11.00 Επί κοντώ 10θλο \n16.00 Σφυροβολία (Ν)\n16.55 Ακοντισμός 10θλο\n17.00 Επί κοντώ (Ε)\n17.50 Δισκοβολία (Ε)\n17.55 Μήκος (Γ)\n18.05 100 μ. εμπ. (Γ) 1η σειρά\n18.12 100 μ. εμπ. (Γ) 2η σειρά\n18.20 110 εμπ. (Ε) 1η σειρά\n18.27 110 μ. εμπ. (Ε) 2η σειρά\n18.30 Υψος (Ε)\n18.35 1.500 μ. (Ν)\n18.40 Σφαιροβολία (Ν)\n18.45 800 μ. (Ε)\n18.55 3.000 στιπλ (Ε)\n19.15 200 μ. (Ν) 1η σειρά\n19.21 200  μ. (Ν) 2η σειρά\n19.25 Ακοντισμός (Ε)\n19.30 Τριπλούν (Ε)\n19.35 200 μ. (Ε) 1η σειρά\n19.41 200μ. (Ε) 2η σειρά\n19.50 1.500 μ. 10θλο\n20.00 800 μ. 7θλου\n20.10 5.000 μ. (Ν)\n20.35 4Χ400 μ. (Ν) 1η σειρά\n20.44 4Χ400 μ. (Ν) 2η σειρά\n20.55 4Χ400 μ. (Ε) 1η σειρά\n21.04 4Χ400 μ. (Ε) 2η σειρά
URL:https://www.stivoz.gr/event/balkan-u20-2014/
CATEGORIES:Ημερολόγιο αγώνων
END:VEVENT
END:VCALENDAR