BEGIN:VCALENDAR
VERSION:2.0
PRODID:-//StivoZ.gr - ECPv5.16.4//NONSGML v1.0//EN
CALSCALE:GREGORIAN
METHOD:PUBLISH
X-WR-CALNAME:StivoZ.gr
X-ORIGINAL-URL:https://www.stivoz.gr
X-WR-CALDESC:StivoZ.gr - Εκδηλώσεις
BEGIN:VTIMEZONE
TZID:Europe/Athens
BEGIN:DAYLIGHT
TZOFFSETFROM:+0200
TZOFFSETTO:+0300
TZNAME:EEST
DTSTART:20130331T010000
END:DAYLIGHT
BEGIN:STANDARD
TZOFFSETFROM:+0300
TZOFFSETTO:+0200
TZNAME:EET
DTSTART:20131027T010000
END:STANDARD
END:VTIMEZONE
BEGIN:VEVENT
DTSTART;VALUE=DATE:20130706
DTEND;VALUE=DATE:20130708
DTSTAMP:20260420T125238
CREATED:20130111T141035Z
LAST-MODIFIED:20190710T165255Z
UID:28758-1373122800-1373230800@www.stivoz.gr
SUMMARY:Βαλκανικοί Ε/Ν (Τουρκία)
DESCRIPTION:Σχετικά θέματα:\n– www.stivoz.com/forum/showthread.php?9276 (ομάδα)\n– www.stivoz.com/forum/showthread.php?9321 (Α’ ημέρα)\n– www.stivoz.com/forum/showthread.php?9327 (Β’ ημέρα)\n– www.stivoz.com/forum/showthread.php?9319 (αποτελέσματα) \nπρόγραμμα: \nΣαββατο \n16:30			Hammer – M\n17:30	Opening Ceremony\n18:00	400m hurdles – W\n18:05			Javelin – W\n18:10		Triple J.  – W\n18:15	400m hurdles – M\n18:25		Pole Vault – W\n18:30	100m – W\n18:40	100m – M\n18:45		High J. – M\n18:55	1500m – W\n19:05	1500m – M\n17:20	400m – W\n19:25		Long J. – M\n19:25			Shot – M\n19:30	400m – M\n19:40	5000m – M\n19:40			Discus – W\n20:05	3000m steeple – W\n20:30	4x100m – W\n20:45	4x100m – M \nΚυριακή \n16:00			Hammer – W\n17:00	100m Hurdles – W\n17:05		Triple J. – M\n17:10	110m Hurdles – M\n17:15			Javelin – M\n17:25	800m – W\n17:30		Pole Vault – M\n17:35	800m – M\n17:40		High J. – W\n17:45	3000m steeple – M\n18:00	200m – W\n18:05			Shot – W\n18:10	200m – M\n18:20	3000m – W\n18:20		Long J. – W\n18:25			Discus – M\n18:40	3000m – M\n19:00	4x400m – W\n19:20	4x400m – M
URL:https://www.stivoz.gr/event/balkan-u20-2013/
CATEGORIES:Ημερολόγιο αγώνων
END:VEVENT
END:VCALENDAR