BEGIN:VCALENDAR
VERSION:2.0
PRODID:-//StivoZ.gr - ECPv5.16.4//NONSGML v1.0//EN
CALSCALE:GREGORIAN
METHOD:PUBLISH
X-WR-CALNAME:StivoZ.gr
X-ORIGINAL-URL:https://www.stivoz.gr
X-WR-CALDESC:StivoZ.gr - Εκδηλώσεις
BEGIN:VTIMEZONE
TZID:Europe/Athens
BEGIN:DAYLIGHT
TZOFFSETFROM:+0200
TZOFFSETTO:+0300
TZNAME:EEST
DTSTART:20240331T010000
END:DAYLIGHT
BEGIN:STANDARD
TZOFFSETFROM:+0300
TZOFFSETTO:+0200
TZNAME:EET
DTSTART:20241027T010000
END:STANDARD
END:VTIMEZONE
BEGIN:VEVENT
DTSTART;VALUE=DATE:20240706
DTEND;VALUE=DATE:20240707
DTSTAMP:20260420T000554
CREATED:20240626T080351Z
LAST-MODIFIED:20240709T075914Z
UID:117300-1720224000-1720310399@www.stivoz.gr
SUMMARY:Βαλκανικό Κ18 (Maribor)
DESCRIPTION:-> Livestream \nΣχετικά θέματα:\n– www.stivoz.gr/i-omada-gia-to-valkaniko-k18-maribor-6-7/\n– www.stivoz.gr/maribor-xryses-zafeiridoy-rafailidoy-sto-balkaniko-u18/\n– www.stivoz.gr/balkan-u18-2024/ (αποτελέσματα) \nΠρόγραμμα: \n09:20 Hammer Throw M\n10:50 Hammer Throw W\n11:00 Long Jump W\n11:00 3000m W\n11:20 3000m M\n11:50 400m H W\n12:05 400m H M\n12:20 Discus Throw M 12:10\n12:30 100m H W – qH1\n12:37 100m H W – qH2\n12:50 110m H M – qH1\n12:57 110m H M – qH2\n13:00 Long Jump M\n13:04 110m H M – H3\n13:05 Shot Put W\n13:15 100m W – qH1\n13:22 100m W – qH2\n13:29 100m M – qH1\n13:36 100m M – qH2\n13:40 OPENING CEREMONY\n13:58 800m W\n14:00 Discus Throw\n14:02 14:08 800m M\n14:10 High Jump W\n14:20 400m W – fH1\n14:27 400m W – fH2\n14:34 400m W – fH3\n14:41 400m M – fH1\n14:45 Shot Put M\n14:48 400m M – fH2\n15:10 Triple jump W\n15:10 100m H W FINAL\n15:25 110m H M FINAL\n15:35 Javelin Throw M\n15:40 100m W FINAL\n15:48 100m M FINAL\n16:05 1500m W\n16:20 1500m M\n16:30 High Jump M\n16:35 200m W – fH1\n16:42 200m W – fH2\n16:49 200m M – fH1\n16:56 200m M – fH2\n17:00 Triple jump M\n17:10 Javelin Throw W\n17:20 2000m SC W\n17:35 2000m SC M\n17:55 4x100m W\n18:05 4x100m M
URL:https://www.stivoz.gr/event/balkan-u18-2024/
CATEGORIES:Ημερολόγιο αγώνων
END:VEVENT
END:VCALENDAR