BEGIN:VCALENDAR
VERSION:2.0
PRODID:-//StivoZ.gr - ECPv5.16.4//NONSGML v1.0//EN
CALSCALE:GREGORIAN
METHOD:PUBLISH
X-WR-CALNAME:StivoZ.gr
X-ORIGINAL-URL:https://www.stivoz.gr
X-WR-CALDESC:StivoZ.gr - Εκδηλώσεις
BEGIN:VTIMEZONE
TZID:Europe/Athens
BEGIN:STANDARD
TZOFFSETFROM:+0200
TZOFFSETTO:+0200
TZNAME:EET
DTSTART:20150101T000000
END:STANDARD
END:VTIMEZONE
BEGIN:VEVENT
DTSTART;VALUE=DATE:20150704
DTEND;VALUE=DATE:20260421
DTSTAMP:20260420T025958
CREATED:20141220T194602Z
LAST-MODIFIED:20190710T173943Z
UID:28965-1435968000-0@www.stivoz.gr
SUMMARY:Βαλκανικό Π/Κ (Σερβία)
DESCRIPTION:Σχετικά θέματα:\n– www.stivoz.com/content.php?5048-Oi-apostoles-gia-ta-balkanika\n– www.stivoz.com/content.php?5057-Dyo-xrysa-oi-P-K-sti-Serbia\n– www.stivoz.com/forum/showthread.php?14054 (αποτελέσματα) \n-> TeamManual
URL:https://www.stivoz.gr/event/balkan-u18-2015/
CATEGORIES:Ημερολόγιο αγώνων
END:VEVENT
END:VCALENDAR