BEGIN:VCALENDAR
VERSION:2.0
PRODID:-//StivoZ.gr - ECPv5.16.4//NONSGML v1.0//EN
CALSCALE:GREGORIAN
METHOD:PUBLISH
X-WR-CALNAME:StivoZ.gr
X-ORIGINAL-URL:https://www.stivoz.gr
X-WR-CALDESC:StivoZ.gr - Εκδηλώσεις
BEGIN:VTIMEZONE
TZID:Europe/Athens
BEGIN:STANDARD
TZOFFSETFROM:+0200
TZOFFSETTO:+0200
TZNAME:EET
DTSTART:20080101T000000
END:STANDARD
END:VTIMEZONE
BEGIN:VEVENT
DTSTART;VALUE=DATE:20080906
DTEND;VALUE=DATE:20260421
DTSTAMP:20260420T202128
CREATED:20071013T073058Z
LAST-MODIFIED:20190710T170855Z
UID:28176-1220659200-0@www.stivoz.gr
SUMMARY:Βαλκανικοί Π/Κ
DESCRIPTION:Η ομάδα για τη Βαλκανική Συνάντηση Π/Κ.  \nΑνακοινώθηκε η αποστολή της εθνικής ομάδας Παίδων – Κορασίδων η οποία θα μετάσχει στη Βαλκανική Συνάντηση της κατηγορίας\, η οποία θα γίνει στις 6 Σεπτεμβρίου στο Μαυροβούνιο. Η αποστολή θα αναχωρήσει για την Ποντγκόριτσα στις 5/9 από την Αθήνα μέσω Βουδαπέστης (05.20\, πτήση ΜΑ 231)\, ενώ η επιστροφή είναι προγραμματισμένη για τις 8/9 με ώρα άφιξης στην Αθήνα τις 15.50. \nΗ ομάδα\nΚορασίδες\n100μ Μαρία Μπελιμπασάκη (Σητειακός ΑΟ)\n400μ Κατερίνα Καραδήμου (ΑΣ Ολυμπιακή Δομή)\n800μ Ανδρονίκη Δρακάκη (ΓΣ Κηφισιάς)\n1.500μ Μαρία Ζωγραφάκη (ΑΣ Καζώνης Καλ.)\n100μ εμπόδια Ελισάβετ Πεσιρίδου (Αρχέλαος Κατερίνης)\nΜήκος Χάιδω Αλεξούλη (Πελασγός Λάρισας)\nΎψος Ναταλία Νικοπούλου (Κερκυραϊκός ΓΣ)\nΤριπλούν Μαρία Κοτρούτσου (ΓΣ Βόλου)\nΣφαίρα Βασιλική Ζαβλανού (ΓΑΣ Τρικάλων Ο ΖΕΥΣ)\nΔίσκος Χρυσούλα Αναγνωστοπούλου (ΓΕ Φαρσάλων Η ΦΘΕΙΑ)\nΑκόντιο Χριστίνα Γιαννέλη (ΑΠΟΦΚΑ Ξάνθης) \nΠαίδες\n100μ Σλαβα Τσιρμινίδης (ΑΠΣ Βιστωνίδας)\n400μ Κώστας Ξυδάς (ΜΕΑΣ Τρίτων)\n800μ Τζέιμι Αλεξ Καπετανάκης (ΑΕ Μεσογείων Αμ.)\n1.500μ Γρηγόρης Βουτσινάς (Πέλωψ Πατρών)\n3.000μ Μανώλης Κοκκινίδης (ΑΣ Καζωνης Καλ.)\n2.000μ στιπλ Χριστοδουλος Δόβας (ΓΣ Σέρρες 93)\n110μ εμπόδια Γιώργος Χατζηγιαννίδης (ΓΣ Εδεσσας)\nΜήκος Δημήτρης Μιχαλέλης (Ελ. Βενιζέλος)\nΤριπλούν Φραντζέσκος Κοσμίδης (ΓΣ Κερατσινίου)\nΎψος Αντώνης Μάστορας (ΓΣ Ηρακλής)\nΣφαίρα Γεράσιμος Θεοδώρου (Πατραϊκή ΕΣ)\nΔίσκος Δημήτρης Τσολακίδης (ΓΣ Μανδρών)\nΑκόντιο Γιάννης Κακεπάκης (ΟΦΗ)\n4χ100μ Χρήστος Χατζηαγγελίδης (ΓΣ Γλυφάδας)
URL:https://www.stivoz.gr/event/balkan-u18-2008/
CATEGORIES:Ημερολόγιο αγώνων
END:VEVENT
END:VCALENDAR