BEGIN:VCALENDAR
VERSION:2.0
PRODID:-//StivoZ.gr - ECPv5.16.4//NONSGML v1.0//EN
CALSCALE:GREGORIAN
METHOD:PUBLISH
X-WR-CALNAME:StivoZ.gr
X-ORIGINAL-URL:https://www.stivoz.gr
X-WR-CALDESC:StivoZ.gr - Εκδηλώσεις
BEGIN:VTIMEZONE
TZID:Europe/Athens
BEGIN:DAYLIGHT
TZOFFSETFROM:+0200
TZOFFSETTO:+0300
TZNAME:EEST
DTSTART:20250330T010000
END:DAYLIGHT
BEGIN:STANDARD
TZOFFSETFROM:+0300
TZOFFSETTO:+0200
TZNAME:EET
DTSTART:20251026T010000
END:STANDARD
END:VTIMEZONE
BEGIN:VEVENT
DTSTART;VALUE=DATE:20250208
DTEND;VALUE=DATE:20250209
DTSTAMP:20260419T154800
CREATED:20250204T072250Z
LAST-MODIFIED:20250209T111551Z
UID:121489-1738972800-1739059199@www.stivoz.gr
SUMMARY:Βαλκανικό K20 κλ. (Σόφια)
DESCRIPTION:Σχετικά θέματα:\n– www.stivoz.gr/valkaniko-k20-megalo-rekor-k18-o-tzelepis/\n– www.stivoz.gr/balkan-indoor-u20-2025/ (αποτελέσματα) \nΠρόγραμμα: \n12.00 Τριπλούν (Α)\n12.00 Σφαιροβολία (Α)\n13.00 Επί κοντώ (Γ)\n13.30 60μ. εμπ. (Α)\n13.30 Σφαιροβολία (Γ)\n13.40 Τριπλούν (Γ)\n14.15 60μ. εμπ. (Γ)\n14.30 1500μ. (Α)\n14.45 1500μ. (Γ)\n15.00 τελετή έναρξης\n15.35 400μ. (Α)\n15.45 Μήκος (Α)\n16.00 400μ. (Γ)\n16.00 Ύψος (Α)\n16.30 Επί κοντώ (Α)\n16.55 800μ. (Α)\n17.15 800μ. (Γ)\n17.45 Μήκος (Γ)\n17.55 Ύψος (Γ)\n17.55 60μ. – προκρ. (Γ)\n18.10 60μ. – προκρ. (Α)\n18.30 3000μ. (Α)\n18.55 3000μ. (Γ)\n19.20 60μ. – τελικός (Γ)\n19.25 60μ. – τελικός (Α)\n19.45 4Χ400μ. (Α)\n19.55 4Χ400μ. (Γ)
URL:https://www.stivoz.gr/event/balkan-i-u20-2025/
CATEGORIES:Ημερολόγιο αγώνων
END:VEVENT
END:VCALENDAR