BEGIN:VCALENDAR
VERSION:2.0
PRODID:-//StivoZ.gr - ECPv5.16.4//NONSGML v1.0//EN
CALSCALE:GREGORIAN
METHOD:PUBLISH
X-WR-CALNAME:StivoZ.gr
X-ORIGINAL-URL:https://www.stivoz.gr
X-WR-CALDESC:StivoZ.gr - Εκδηλώσεις
BEGIN:VTIMEZONE
TZID:Europe/Athens
BEGIN:STANDARD
TZOFFSETFROM:+0200
TZOFFSETTO:+0200
TZNAME:EET
DTSTART:20090101T000000
END:STANDARD
END:VTIMEZONE
BEGIN:VEVENT
DTSTART;VALUE=DATE:20090225
DTEND;VALUE=DATE:20260423
DTSTAMP:20260422T071413
CREATED:20081101T093440Z
LAST-MODIFIED:20211210T105122Z
UID:28254-1235520000-0@www.stivoz.gr
SUMMARY:meeting Athens
DESCRIPTION:Σχετικά θέματα:\nhttp://www.stivoz.gr/?p=17279\nhttp://www.stivoz.gr/?p=20411\nhttp://www.stivoz.gr/?p=17279 (αποτελέσματα)\nhttp://www.stivoz.gr/?p=19785 (συνέντευξη Ukhov) \n15.00 1.000μ Μίνι ΠΠ (2 τελικές σειρές)\n15.05 Ύψος ΠΠ Β΄ (τελικός)\n15.15 1.000μ Μίνι ΠΚ (2 τελικές σειρές)\n15.25 Μήκος ΠΚ Β’ (τελικός)\n15.30 50μ Μίνι ΠΠ (2 τελικές σειρές)\n15.45 50μ Μίνι ΠΚ (2 τελικές σειρές)\n16.00 60μ ΠΠ Β΄ (2 τελικές σειρές)\n16.20 60μ ΠΚ Β΄ (2 τελικές σειρές) \n16.30 Ύψος Γ (εκτός προγράμματος μίτινγκ)  \n16.35 1.000μ ΠΠ Β΄ (2 τελικές σειρές)\n16.45 1.000μ ΠΚ Β΄ (2 τελικές σειρές) \n17.05 Τριπλούν Γ \n17.15 Βραβεύσεις συμμετεχόντων αθλητών/τριών (μικρών κατηγοριών) \n18.00 Επί κοντώ Α\n18.05 Ύψος Α\n18.10 60μ εμπόδια Γ\n18.25 60μ εμπόδια Α\n18.35 1.500μ Α\n18.40 Μήκος Α\n18.45 1.500μ Γ\n18.55 60μ Α (2η τελική σειρά)\n19.01 60μ Α (1η τελική σειρά)\n19.15 60μ Γ (2η τελική σειρά)\n19.21 60μ Γ (1η τελική σειρά)\n19.30 400μ Γ (2η τελική σειρά)\n19.37 400μ Γ (1η τελική σειρά)
URL:https://www.stivoz.gr/event/athens-2009/
CATEGORIES:Ημερολόγιο αγώνων
END:VEVENT
END:VCALENDAR