BEGIN:VCALENDAR
VERSION:2.0
PRODID:-//StivoZ.gr - ECPv5.16.4//NONSGML v1.0//EN
CALSCALE:GREGORIAN
METHOD:PUBLISH
X-WR-CALNAME:StivoZ.gr
X-ORIGINAL-URL:https://www.stivoz.gr
X-WR-CALDESC:StivoZ.gr - Εκδηλώσεις
BEGIN:VTIMEZONE
TZID:Europe/Athens
BEGIN:STANDARD
TZOFFSETFROM:+0200
TZOFFSETTO:+0200
TZNAME:EET
DTSTART:20080101T000000
END:STANDARD
END:VTIMEZONE
BEGIN:VEVENT
DTSTART;VALUE=DATE:20080213
DTEND;VALUE=DATE:20260424
DTSTAMP:20260423T174159
CREATED:20071214T112206Z
LAST-MODIFIED:20211210T105250Z
UID:28199-1202860800-0@www.stivoz.gr
SUMMARY:meeting Athens
DESCRIPTION:17.30 Τριπλούν Γ\n17.55 Κοντώ Γ\n18.00 Ύψος Α\n18.05 60μ εμπόδια Γ\n18.20 60μ εμπόδια Α\n18.30 1.500μ Α\n18.45 800μ Γ\n18.50 Μήκος Α\n18.55 60μ Α (2η  σειρά)\n19.01 60μ Α( 1η σειρά)\n19.15 60μ Γ (2η σειρά)\n19.21 60μ Γ (1η σειρά)\n19.35 400μ Α\n19.45 400μ Γ
URL:https://www.stivoz.gr/event/athens-2008/
CATEGORIES:Ημερολόγιο αγώνων
END:VEVENT
END:VCALENDAR