BEGIN:VCALENDAR
VERSION:2.0
PRODID:-//StivoZ.gr - ECPv5.16.4//NONSGML v1.0//EN
CALSCALE:GREGORIAN
METHOD:PUBLISH
X-WR-CALNAME:StivoZ.gr
X-ORIGINAL-URL:https://www.stivoz.gr
X-WR-CALDESC:StivoZ.gr - Εκδηλώσεις
BEGIN:VTIMEZONE
TZID:Europe/Athens
BEGIN:STANDARD
TZOFFSETFROM:+0200
TZOFFSETTO:+0200
TZNAME:EET
DTSTART:20100101T000000
END:STANDARD
END:VTIMEZONE
BEGIN:VEVENT
DTSTART;VALUE=DATE:20100328
DTEND;VALUE=DATE:20260423
DTSTAMP:20260422T090753
CREATED:20091205T074134Z
LAST-MODIFIED:20220622T083052Z
UID:28347-1269734400-0@www.stivoz.gr
SUMMARY:μαραθώνιος Θεσσαλονίκης "Μέγας Αλέξανδρος"
DESCRIPTION:www.atgm.gr
URL:https://www.stivoz.gr/event/atgm-2010/
CATEGORIES:Ημερολόγιο αγώνων
END:VEVENT
END:VCALENDAR