BEGIN:VCALENDAR
VERSION:2.0
PRODID:-//StivoZ.gr - ECPv5.16.4//NONSGML v1.0//EN
CALSCALE:GREGORIAN
METHOD:PUBLISH
X-WR-CALNAME:StivoZ.gr
X-ORIGINAL-URL:https://www.stivoz.gr
X-WR-CALDESC:StivoZ.gr - Εκδηλώσεις
BEGIN:VTIMEZONE
TZID:Europe/Athens
BEGIN:DAYLIGHT
TZOFFSETFROM:+0200
TZOFFSETTO:+0300
TZNAME:EEST
DTSTART:20240331T010000
END:DAYLIGHT
BEGIN:STANDARD
TZOFFSETFROM:+0300
TZOFFSETTO:+0200
TZNAME:EET
DTSTART:20241027T010000
END:STANDARD
END:VTIMEZONE
BEGIN:VEVENT
DTSTART;VALUE=DATE:20240224
DTEND;VALUE=DATE:20240225
DTSTAMP:20260422T052806
CREATED:20240213T130256Z
LAST-MODIFIED:20240320T100851Z
UID:112309-1708732800-1708819199@www.stivoz.gr
SUMMARY:Αναπτυξιακό κύπελλο ρίψεων (Ηράκλειο)
DESCRIPTION:Σχετικά θέματα:\n– www.stivoz.gr/anaptyxiako-kypello-ripseon-2024/ (αποτελέσματα) \n-> Προκήρυξη < \nΠρόγραμμα: \nΕΑΚ Ελευθερίας \n10.00 Δισκοβολία Κ18 Ανδρών\n11.00 Δισκοβολία Κ16 Αγοριών\n12.30 Σφυροβολία Κ16 Αγοριών – Κ18 Ανδρών\n13.00 Σφαιροβολία Κ16 Κοριτσιών – Κ18 Γυναικών\n13.45 Σφυροβολία Κ16 Κοριτσιών\n14.30 Σφαιροβολία Κ16 Αγοριών\n15.00 Σφυροβολία Κ18 Γυναικών\n15.45 Σφαιροβολία Κ18 Ανδρών\n16.30 Δισκοβολία Κ16 Κοριτσιών\n17.30 Δισκοβολία Κ18 Κοριτσιών \nΠαγκρήτιο \n17.30 Ακοντισμός Κ16 Αγοριών – Κ18 Ανδρών\n19.00 Ακοντισμός Κ16 Κοριτσιών – Κ18 Γυναικών \nΟι δηλώσεις συμμετοχής πρέπει να σταλούν στον Σ.Ε.Γ.Α.Σ. με email\, το αργότερο μέχρι και τη Δευτέρα 19 Φεβρουαρίου 2024 και ώρα 14:00 στην ηλεκτρονική διεύθυνση entries@segas.gr και κοινοποίηση στο segas.kritis@gmail.com και mkaloud@gmail.com
URL:https://www.stivoz.gr/event/anaptyxiako-ripseon-irakleio-2024/
CATEGORIES:Ημερολόγιο αγώνων
END:VEVENT
END:VCALENDAR