BEGIN:VCALENDAR
VERSION:2.0
PRODID:-//StivoZ.gr - ECPv5.16.4//NONSGML v1.0//EN
CALSCALE:GREGORIAN
METHOD:PUBLISH
X-WR-CALNAME:StivoZ.gr
X-ORIGINAL-URL:https://www.stivoz.gr
X-WR-CALDESC:StivoZ.gr - Εκδηλώσεις
BEGIN:VTIMEZONE
TZID:Europe/Athens
BEGIN:STANDARD
TZOFFSETFROM:+0200
TZOFFSETTO:+0200
TZNAME:EET
DTSTART:20170101T000000
END:STANDARD
END:VTIMEZONE
BEGIN:VEVENT
DTSTART;VALUE=DATE:20170115
DTEND;VALUE=DATE:20260420
DTSTAMP:20260419T220239
CREATED:20161222T115105Z
LAST-MODIFIED:20181208T172654Z
UID:29158-1484438400-0@www.stivoz.gr
SUMMARY:Αγώνας Κοτζιά & περιφ.ανωμάλου (Ν.Σμύρνη)
DESCRIPTION:Σχετικά θέματα:\n– www.stivoz.com/content.php?5965-Kales-kourses-alla-periorismeni-symmetoxi-ston-agona-Kotzia-pou-stirixan-oi-Syndotes\n– www.stivoz.com/forum/showthread.php?16041 (αποτελέσματα) \nΠρόγραμμα: \n09.00 – 4.000μ.	ΝΕΑΝΙΔΩΝ\n09.30 – 6.000μ.	ΕΦΗΒΩΝ\n10.00 – 3.000μ.	ΚΟΡΑΣΙΔΩΝ\n10.25 – 4.000μ.	ΠΑΙΔΩΝ\n10.50 – 500μ.	ΜΙΝΙ ΚΟΡΙΤΣΙΑ\n11.00 – 500μ.	ΜΙΝΙ ΑΓΟΡΙΑ\n11.10 – 1.000μ.	ΠΑΓΚΟΡΑΣΙΔΩΝ Β΄\n11.20 – 1.000μ.	ΠΑΜΠΑΙΔΩΝ Β΄\n11.30 – 2.000μ.	ΠΑΓΚΟΡΑΣΙΔΩΝ Α΄\n11.45 – 2.000μ.	ΠΑΜΠΑΙΔΩΝ Α΄\n12.00 – 6.000μ.	ΓΥΝΑΙΚΩΝ Β΄-ΓΥΝΑΙΚΩΝ\n12.40 – 8.000μ.	ΑΝΔΡΩΝ Β΄-ΑΝΔΡΩΝ \nΔεν υπάρχει η δυνατότητα χρήσης spikes \nΣτους αγώνες στην μνήμη Κ. Κοτζιά έχουν δικαίωμα συμμετοχής και αθλητές – τριες που δεν ανήκουν στα Σωματεία – μέλη των ΕΑΣ ΣΕΓΑΣ ΠΕΙΡΑΙΑ & ΝΟΤΙΟΔΥΤΙΚΗΣ ΑΤΤΙΚΗΣ και ΑΘΗΝΑΣ\, καθώς και μαθητές – τριες των Δημοτικών Σχολείων στο αγώνισμα των 500μ. ΜΙΝΙ Αγοριών και ΜΙΝΙ κοριτσιών. \n-> Κατηγορίες \nΟι δηλώσεις συμμετοχής για το περιφεριακό πρωτάθλημα πρέπει να σταλούν στην Ε.Α.Σ. Σ.Ε.Γ.Α.Σ. Πειραιά και Νοτιοδυτικής Αττικής με email (βάσει φόρμας προκήρυξης) μέχρι και την Τρίτη 10 Ιανουαρίου 2017 και ώρα 14.00 στην ηλ.διεύθυνση segaspeiraia@gmail.com\nΣε περίπτωση προβλήματος εναλλακτικά μπορείτε να αποστείλετε τις δηλώσεις στην ηλ.διεύθυνση smatakis@gmail.com ή να επικοινωνήσετε τηλεφωνικά με τον τεχνικό της Επιτροπής Ανάπτυξης κ. Στέφανο Ματάκη στο τηλέφωνο 6946953858 \nΤο Περιφερειακό Πρωτάθλημα Δρόμου σε Ανώμαλο Έδαφος δεν αποτελεί πρόκριση για το Πανελλήνιο Πρωτάθλημα Δρόμου σε Ανώμαλο Έδαφος και δεν συμπεριλαμβάνεται στους αγώνες αξιολόγησης των Σωματείων
URL:https://www.stivoz.gr/event/amp-8/
CATEGORIES:Ημερολόγιο αγώνων
END:VEVENT
END:VCALENDAR