BEGIN:VCALENDAR
VERSION:2.0
PRODID:-//StivoZ.gr - ECPv5.16.4//NONSGML v1.0//EN
CALSCALE:GREGORIAN
METHOD:PUBLISH
X-WR-CALNAME:StivoZ.gr
X-ORIGINAL-URL:https://www.stivoz.gr
X-WR-CALDESC:StivoZ.gr - Εκδηλώσεις
BEGIN:VTIMEZONE
TZID:Europe/Athens
BEGIN:DAYLIGHT
TZOFFSETFROM:+0200
TZOFFSETTO:+0300
TZNAME:EEST
DTSTART:20140330T010000
END:DAYLIGHT
BEGIN:STANDARD
TZOFFSETFROM:+0300
TZOFFSETTO:+0200
TZNAME:EET
DTSTART:20141026T010000
END:STANDARD
END:VTIMEZONE
BEGIN:VEVENT
DTSTART;VALUE=DATE:20140818
DTEND;VALUE=DATE:20140824
DTSTAMP:20260422T052636
CREATED:20140821T113448Z
LAST-MODIFIED:20181218T094254Z
UID:28920-1408359600-1408827600@www.stivoz.gr
SUMMARY:Πανευρωπαικό ΑμΕΑ (Swansea)
DESCRIPTION:2014 IPC Athletics European Championships\nwww.paralympic.org/swansea-2014 \nΣχετικά θέματα:\n– www.stivoz.com/content.php?4271-Aksiologi-i-prospatheia-twn-ellinwn-sto-Paneuropaiko-AmEA \n-> Αποτελέσματα Ελλήνων αθλητών \n-> Κατηγοριοποίηση
URL:https://www.stivoz.gr/event/amea-swansea2014/
CATEGORIES:Ημερολόγιο αγώνων
END:VEVENT
END:VCALENDAR