BEGIN:VCALENDAR
VERSION:2.0
PRODID:-//StivoZ.gr - ECPv5.16.4//NONSGML v1.0//EN
CALSCALE:GREGORIAN
METHOD:PUBLISH
X-WR-CALNAME:StivoZ.gr
X-ORIGINAL-URL:https://www.stivoz.gr
X-WR-CALDESC:StivoZ.gr - Εκδηλώσεις
BEGIN:VTIMEZONE
TZID:Europe/Athens
BEGIN:DAYLIGHT
TZOFFSETFROM:+0200
TZOFFSETTO:+0300
TZNAME:EEST
DTSTART:20220327T010000
END:DAYLIGHT
BEGIN:STANDARD
TZOFFSETFROM:+0300
TZOFFSETTO:+0200
TZNAME:EET
DTSTART:20221030T010000
END:STANDARD
END:VTIMEZONE
BEGIN:VEVENT
DTSTART;VALUE=DATE:20221113
DTEND;VALUE=DATE:20221114
DTSTAMP:20260422T033837
CREATED:20220829T111348Z
LAST-MODIFIED:20221115T134014Z
UID:98288-1668297600-1668383999@www.stivoz.gr
SUMMARY:Athens Authentic Marathon 2022
DESCRIPTION:https://www.athensauthenticmarathon.gr/ \nΣχετικά θέματα:\n– www.stivoz.gr/pitsolis-kai-konstantinopoyloy-epikratisan-ston-ama/\n– www.stivoz.gr/athens-authentic-marathon-2022/ (αποτελέσματα) \n-> προκήρυξη πανελ.πρωτ.Μαραθωνίου \n-> Athens Marathon the authetic app \nΣΑΒΒΑΤΟ 12 ΝΟΕΜΒΡΙΟΥ 2022 \n17.00: αγώνας 10χλμ \nΚΥΡΙΑΚΗ 13 ΝΟΕΜΒΡΙΟΥ 2022 \n08.30: αγώνας 5χλμ. \n09.00: αγώνας Μαραθωνίου \n10.15: αγώνας παιδιών 1\,2χλμ \nΤερματισμός όλων των αγώνων\, στο Παναθηναϊκό Στάδιο.\nΗ εκκίνηση για τα 5χλμ & 10χλμ είναι στη Λεωφόρο Αμαλίας\, μπροστά στο Μέγαρο Μποδοσάκη. Η εκκίνηση για τον παιδικό αγώνα είναι στη Λεωφόρο Βασιλίσσης Σοφίας στο ύψος της Βουλής. \nΟι εγγραφές γίνονται αποκλειστικά και μόνο μέσω της ιστοσελίδας της διοργάνωσης\, έως τις 15 Σεπτεμβρίου οι ονομαστικές και έως την 1 Οκτωβρίου 2022 το οριστικό κλείσιμο. \nΑνώτατα όρια δρομέων:\n-Μαραθώνιος Δρόμος : 15000 δρομείς\n-Αγώνας Δρόμου 10χλμ ΟΠΑΠ : 12000 δρομείς\n-Αγώνας Δρόμου 5χλμ STOIXIMAN : 15000 δρομείς\n-Αγώνας Παιδιών 1\,2χλμ : 900 δρομείς \nΣτους αγώνες της διοργάνωσης του Μαραθωνίου Αθήνας 2022 επιτρέπεται η εγγραφή & συμμετοχή σε δρομείς με έγκυρο Πιστοποιητικό COVID-19 έως και την ημέρα του αγώνα. Συμμετοχή με επίδειξη Πιστοποιητικού εμβολιασμού ή ανάρρωσης COVID-19 σε ποσοστό 95% των συμμετεχόντων ή συμμετοχή με επίδειξη αρνητικού διαγνωστικού ελέγχου COVID-19 (PCR test 72 ωρών ή Rapid test 48 ωρών) σε ποσοστό 5% των συμμετεχόντων. \nΠανελλήνιο πρωτάθλημα: Οι δηλώσεις συμμετοχής πρέπει να σταλούν αποκλειστικά και μόνο με email μέχρι τη Δευτέρα 31 Οκτωβρίου 2022 και ώρα 14:00 στον Σ.Ε.Γ.Α.Σ. στην ηλεκτρονική διεύθυνση entries@segas.gr. \n-> Όρια \n-> Ιστορικό\n-> Νικητές διοργάνωσης\n-> Νικητές πανελ.πρωταθλήματος
URL:https://www.stivoz.gr/event/ama-2022/
CATEGORIES:Ημερολόγιο αγώνων
END:VEVENT
END:VCALENDAR