BEGIN:VCALENDAR
VERSION:2.0
PRODID:-//StivoZ.gr - ECPv5.16.4//NONSGML v1.0//EN
CALSCALE:GREGORIAN
METHOD:PUBLISH
X-WR-CALNAME:StivoZ.gr
X-ORIGINAL-URL:https://www.stivoz.gr
X-WR-CALDESC:StivoZ.gr - Εκδηλώσεις
BEGIN:VTIMEZONE
TZID:Europe/Athens
BEGIN:DAYLIGHT
TZOFFSETFROM:+0200
TZOFFSETTO:+0300
TZNAME:EEST
DTSTART:20190331T010000
END:DAYLIGHT
BEGIN:STANDARD
TZOFFSETFROM:+0300
TZOFFSETTO:+0200
TZNAME:EET
DTSTART:20191027T010000
END:STANDARD
END:VTIMEZONE
BEGIN:VEVENT
DTSTART;VALUE=DATE:20191109
DTEND;VALUE=DATE:20191111
DTSTAMP:20260420T052252
CREATED:20181221T204828Z
LAST-MODIFIED:20240816T075935Z
UID:41249-1573257600-1573430399@www.stivoz.gr
SUMMARY:Athens Authentic Marathon 2019
DESCRIPTION:https://www.athensauthenticmarathon.gr \n-> “Athens Marathon. The Authentic” app  \nStart list:\n– Μαραθώνιος\n– 10χλμ – 5χλμ – 3χλμ \nΣχετικά θέματα:\n– https://www.stivoz.gr/me-diimeri-drasi-o-aythentikos-marathonios/\n– https://www.stivoz.gr/ama-archi-me-floga-kai-10ari-tassis-kai-privilegio-protoi/\n– https://www.stivoz.gr/ama-gkelaoyzos-kai-petroylaki-xana-tin-protia/\n– https://www.stivoz.gr/athens-authentic-marathon-2019/ (αποτελέσματα) \n-> Ιστορικό\n-> Νικητές διοργάνωσης\n-> Νικητές πανελ.πρωταθλήματος \n-> προκήρυξη\n-> Όροι συμμετοχής \nΠρόγραμμα (εκκινήσεις): \nΣάββατο 9/11/2019 \n17:00 – 10.000μ. (17:00) \nΚυριακή 10/11/2019 \n08:15 – 5χλμ.\n09:00 – Μαραθώνιος\n10:05 – Αγώνας Special Olympic Hellas 1200μ.\n10:20 – Αγώνας παιδιών 1200μ. (10:25)\n10:35 – Αγώνας 3χλμ / Run Greece (10:35) \nΈκθεση Μαραθωνίου EXPO:\nTaeKwonDo\,\nΤετάρτη 6/11: 1μμ-8μμ\nΠέμπτη 7/11: 10πμ-8μμ\nΠαρασκευή 8/11: 10πμ-8μμ\nΣάββατο 9/11: 10πμ-8μμ (παραλαβή αριθμών έως 6μμ) \n13ο Συμπόσιο Μαραθωνίων AIMS:\nHilton\, 7-9/11 \nΌρια εγγραφών:\nΜαραθώνιος – 20.000 ( >18\, γεν. τουλάχιστον 2001 )\n10χλμ – 12.000 ( >12\, γεν. τουλάχιστον 2007 )\n5χλμ – 20.000 ( >12\, γεν. τουλάχιστον 2007 )
URL:https://www.stivoz.gr/event/ama-2019/
CATEGORIES:Ημερολόγιο αγώνων
END:VEVENT
END:VCALENDAR