BEGIN:VCALENDAR
VERSION:2.0
PRODID:-//StivoZ.gr - ECPv5.16.4//NONSGML v1.0//EN
CALSCALE:GREGORIAN
METHOD:PUBLISH
X-WR-CALNAME:StivoZ.gr
X-ORIGINAL-URL:https://www.stivoz.gr
X-WR-CALDESC:StivoZ.gr - Εκδηλώσεις
BEGIN:VTIMEZONE
TZID:Europe/Athens
BEGIN:STANDARD
TZOFFSETFROM:+0200
TZOFFSETTO:+0200
TZNAME:EET
DTSTART:20170101T000000
END:STANDARD
END:VTIMEZONE
BEGIN:VEVENT
DTSTART;VALUE=DATE:20171112
DTEND;VALUE=DATE:20260420
DTSTAMP:20260419T164401
CREATED:20170621T185903Z
LAST-MODIFIED:20240816T080214Z
UID:29235-1510444800-0@www.stivoz.gr
SUMMARY:Athens Authentic Marathon 2017
DESCRIPTION:www.athensauthenticmarathon.gr \nΣχετικά θέματα:\n– www.stivoz.com/content.php?6450-Kalalei-kai-Badane-oi-megaloi-nikites-gkelaouzos-kai-rempouli-to-panellhnio-protathlima\n– www.stivoz.com/forum/showthread.php?17181 (αποτελέσματα) \n->photos p.2 (Μαραθώνιος)\n->photos p.1 (αγωνίσματα) \n-> Συμμετοχές Πανελ.Πρ.Μαραθωνίου  \nΜαραθώνιος (09:00)\n10.000μ. (08:35)\n5.000μ. (07:45 & 16:15)\nΑγώνας παιδιών 1200μ. (10:25)\nΑγώνας 3χλμ / Run Greece (10:35)\nΑγώνας ΑμΕΑ 1200μ. (08:50) \nΖωντανή μετάδοση από ΕΡΤ \n-> Ιστορικό \nΗ μετακίνηση θα γίνει με 300 λεωφορεία από 6 διαφορετικά σημεία στο κέντρο της Αθήνας\, από τις 5:30 π.μ. έως τις 6:45 π.μ. \nΣημεία επιβίβασης:\n• Στάση Ομόνοια ΗΛΕΚΤΡΙΚΟΥ κατά μήκος της λεωφόρου Γ. Σεπτεμβρίου\, επιβίβαση από την διασταύρωση με την οδό Βερανζέρου «Πλατεία Λαυρίου».\n• Στάση ΜΕΤRO Γραμμή 2 «Πανεπιστήμιο»\, κατά μήκος της οδού Πανεπιστημίου\, επιβίβαση από την πλευρά των Προπυλαίων Πανεπιστημίου (έξοδος «Πανεπιστήμιο»).\n• Στάση ΜΕΤRO Γραμμή 2 & 3 «Σύνταγμα» κατά μήκος της λεωφόρου Βασιλίσσης Αμαλίας (επιβίβαση από την πλευρά της πλατείας του «αγνώστου στρατιώτη») και κατά μήκος της οδού Βασιλέως Γεωργίου (επιβίβαση από την πλευρά του Ξενοδοχείου «Μεγάλη Βρετανία»)\n• Στάση ΜΕΤRO Γραμμή 3 «Ευαγγελισμός»\, κατά μήκος της λεωφόρου Βασιλίσσης Σοφίας\, επιβίβαση από την πλευρά της ανόδου\n• Στάση ΜΕΤRO Γραμμή 3 «Κατεχάκη»\, κατά μήκος της λεωφόρου Μεσογείων\, επιβίβαση από την πλευρά της ανόδου αυτοκινήτων.\n• Στάση ΜΕΤRO Γραμμή 2 «Συγγρού-Φιξ»\, κατά μήκος της λεωφόρου Συγγρού\, επιβίβαση από την πλευρά της ανόδου (έξοδος «Συγγρού»).\nΠροσοχή: Για λόγους οργανωτικούς η τελευταία αναχώρηση πούλμαν από το σταθμό Συγγρού – Φιξ θα γίνει στις 06:15
URL:https://www.stivoz.gr/event/ama-2017/
CATEGORIES:Ημερολόγιο αγώνων
END:VEVENT
END:VCALENDAR