BEGIN:VCALENDAR
VERSION:2.0
PRODID:-//StivoZ.gr - ECPv5.16.4//NONSGML v1.0//EN
CALSCALE:GREGORIAN
METHOD:PUBLISH
X-WR-CALNAME:StivoZ.gr
X-ORIGINAL-URL:https://www.stivoz.gr
X-WR-CALDESC:StivoZ.gr - Εκδηλώσεις
BEGIN:VTIMEZONE
TZID:Europe/Athens
BEGIN:DAYLIGHT
TZOFFSETFROM:+0200
TZOFFSETTO:+0300
TZNAME:EEST
DTSTART:20240331T010000
END:DAYLIGHT
BEGIN:STANDARD
TZOFFSETFROM:+0300
TZOFFSETTO:+0200
TZNAME:EET
DTSTART:20241027T010000
END:STANDARD
END:VTIMEZONE
BEGIN:VEVENT
DTSTART;VALUE=DATE:20240508
DTEND;VALUE=DATE:20240509
DTSTAMP:20260422T130121
CREATED:20240408T101609Z
LAST-MODIFIED:20240509T134231Z
UID:113603-1715126400-1715212799@www.stivoz.gr
SUMMARY:Αλεξανδρινό meeting (Αλεξάνδρεια)
DESCRIPTION:κατ.”D”\nΣτη μνήμη Γ.Πάντου \nΣχετικά θέματα:\n– www.stivoz.gr/alexandreia-protagonistries-emmanouilidou-zaragka/\n– www.stivoz.gr/alexandrino-meeting-2024/ (αποτελέσματα) \nΠρόγραμμα: \n13.00 Σφύρα Ανδρών\n14.00 Μήκος ΑΝΔΡΩΝ\n15.30 Μήκος ΓΥΝΑΙΚΩΝ\n16.00 80μ ΚΟΡΙΤΣΙΩΝ Κ16\n16.15 80μ ΑΓΟΡΙΩΝ Κ16\n16.15 Ύψος ΓΥΝΑΙΚΩΝ\n16.15 Σφαίρα Κ20 ΑΝΔΡΩΝ\n16.30 80μ ΕΜΠ ΚΟΡΙΤΣΙΩΝ Κ16\n16.45 100μ ΕΜΠ ΓΥΝΑΙΚΩΝ Κ18\n17.00 100μ ΕΜΠ ΑΓΟΡΙΩΝ Κ16\n17.00 Τριπλούν ΑΝΔΡΩΝ\n17.15 100μ ΕΜΠ ΓΥΝΑΙΚΩΝ\n17.30 110μ ΕΜΠ ΑΝΔΡΩΝ\n17.30 Σφαίρα ΑΝΔΡΩΝ\n17.50 100μ ΓΥΝΑΙΚΩΝ\n18.10 100μ ΑΝΔΡΩΝ\n18.30 400μ ΕΜΠ ΓΥΝΑΙΚΩΝ\n18.30 Τριπλούν ΓΥΝΑΙΚΩΝ\n18.45 400μ ΑΝΔΡΩΝ\n18.55 300 ΚΟΡΙΤΣΙΩΝ K16\n19.05 300 ΑΓΟΡΙΩΝ K16\n19.20 200μ ΓΥΝΑΙΚΩΝ\n19.30 200μ ΑΝΔΡΩΝ\n19.45 1000 ΚΟΡΙΤΣΙΩΝ K16\n20.00 1000 ΑΓΟΡΙΩΝ K16 \nΔηλώσεις συμμετοχής μέχρι τη Μ.ΤΡΙΤΗ 30 ΑΠΡΙΛΙΟΥ στην ΕΑΣ ΣΕΓΑΣ Κ.ΜΑΚΕΔΟΝΙΑΣ ηλεκτρονικά στο eassegaskm@gmail.com
URL:https://www.stivoz.gr/event/alexandrino-meeting-2024/
CATEGORIES:Ημερολόγιο αγώνων
END:VEVENT
END:VCALENDAR