BEGIN:VCALENDAR
VERSION:2.0
PRODID:-//StivoZ.gr - ECPv5.16.4//NONSGML v1.0//EN
CALSCALE:GREGORIAN
METHOD:PUBLISH
X-WR-CALNAME:StivoZ.gr
X-ORIGINAL-URL:https://www.stivoz.gr
X-WR-CALDESC:StivoZ.gr - Εκδηλώσεις
BEGIN:VTIMEZONE
TZID:Europe/Athens
BEGIN:DAYLIGHT
TZOFFSETFROM:+0200
TZOFFSETTO:+0300
TZNAME:EEST
DTSTART:20210328T010000
END:DAYLIGHT
BEGIN:STANDARD
TZOFFSETFROM:+0300
TZOFFSETTO:+0200
TZNAME:EET
DTSTART:20211031T010000
END:STANDARD
END:VTIMEZONE
BEGIN:VEVENT
DTSTART;VALUE=DATE:20210611
DTEND;VALUE=DATE:20210612
DTSTAMP:20260419T182159
CREATED:20210608T135311Z
LAST-MODIFIED:20210612T121858Z
UID:79090-1623369600-1623455999@www.stivoz.gr
SUMMARY:1ο Αλεξανδρινό meeting (Αλεξάνδρεια)
DESCRIPTION:Σχετικά θέματα:\n– www.stivoz.gr/alexandrino-meeting-2021/ (αποτελέσματα) \nΠρόγραμμα \n17.00 Μήκος ΓΥΝΑΙΚΩΝ\n17.00 Σφαίρα ΓΥΝΑΙΚΩΝ Κ18\n17.00 80 ΚΟΡΙΤΣΙΩΝ Κ16\n17.20 80 ΑΓΟΡΙΩΝ Κ16\n17.20 Δίσκος ΑΝΔΡΩΝ Κ20\n17.40 400 ΓΥΝΑΙΚΩΝ\n18.00 400 ΑΝΔΡΩΝ\n18.00 Μήκος ΑΝΔΡΩΝ\n18.00 Σφαίρα ΑΝΔΡΩΝ\n18.20 1200 ΚΟΡΙΤΣΙΩΝ K16\n18.40 1200 ΑΓΟΡΙΩΝ K16\n18.20 Δίσκος ΓΥΝΑΙΚΩΝ\n19.00 Τριπλούν ΓΥΝΑΙΚΩΝ\n19.00 Σφαίρα ΑΝΔΡΩΝ Κ18\n19.00 1500 ΓΥΝΑΙΚΩΝ\n19.20 1500 ΑΝΔΡΩΝ\n19.40 Δίσκος ΑΝΔΡΩΝ\n19.40 100 ΓΥΝΑΙΚΩΝ\n20.00 100 ΑΝΔΡΩΝ\n20.00 Τριπλούν ΑΝΔΡΩΝ\n20.00 Σφαίρα ΓΥΝΑΙΚΩΝ
URL:https://www.stivoz.gr/event/alexandrino-meeting-2021/
CATEGORIES:Ημερολόγιο αγώνων
END:VEVENT
END:VCALENDAR