BEGIN:VCALENDAR
VERSION:2.0
PRODID:-//StivoZ.gr - ECPv5.16.4//NONSGML v1.0//EN
CALSCALE:GREGORIAN
METHOD:PUBLISH
X-WR-CALNAME:StivoZ.gr
X-ORIGINAL-URL:https://www.stivoz.gr
X-WR-CALDESC:StivoZ.gr - Εκδηλώσεις
BEGIN:VTIMEZONE
TZID:Europe/Athens
BEGIN:DAYLIGHT
TZOFFSETFROM:+0200
TZOFFSETTO:+0300
TZNAME:EEST
DTSTART:20190331T010000
END:DAYLIGHT
BEGIN:STANDARD
TZOFFSETFROM:+0300
TZOFFSETTO:+0200
TZNAME:EET
DTSTART:20191027T010000
END:STANDARD
END:VTIMEZONE
BEGIN:VEVENT
DTSTART;VALUE=DATE:20190524
DTEND;VALUE=DATE:20190525
DTSTAMP:20260420T002618
CREATED:20190516T113915Z
LAST-MODIFIED:20200621T100613Z
UID:49683-1558656000-1558742399@www.stivoz.gr
SUMMARY:Αλεξάνδρειοι Δρόμοι (Θεσσαλονίκη)
DESCRIPTION:Σχετικά θέματα:\n– https://www.stivoz.gr/alexandreioi-dromoi-2019/ (αποτελέσματα) \nΜε απόφαση της ομοσπονδίας\, στη συγκεκριμένη διοργάνωση θα ισχύσουν τα όρια στα 10.000 μ. των Ανδρών\, τα 3.000 μ. Ανδρών και Γυναικών και τα 3.000 μ. στιπλ Γυναικών\, για το Παγκόσμιο Πρωτάθλημα Ανδρών/Γυναικών\, το Ευρωπαϊκό Πρωτάθλημα Κ23 και το Ευρωπαϊκό Πρωτάθλημα Κ20. \nΠρόγραμμα: \n17.30 800μ. Γ\n17.40 800μ. Κ18 – κορασίδων\n17.50 800μ. Α\n18.00 800μ. Κ18 – παίδων\n18.15 3000 ΦΕ Γ\n18.30 1.000μ. Κ14 – κορίτσια\n18.45 1.000μ. Κ14 – αγόρια\n19.00 3000μ. Γ\n19.20 3000μ. Α\n19.40 1.500μ. Γ\n19.50 1.500μ. Α\n20.00 10.000μ. Α \nΟι Δηλώσεις Συμμετοχής των αθλητών-τριών θα υποβάλλονται το αργότερο μέχρι την ΔΕΥΤΕΡΑ 20 ΜΑΪΟΥ και ώρα 14.00\, ηλεκτρονικά\, στο ειδικό έντυπο της προκήρυξης στη διεύθυνση segasthes@gmail.com
URL:https://www.stivoz.gr/event/alexandreioi-dromoi-2019/
LOCATION:Καυτανζόγλειο Εθνικό Στάδιο Θεσσαλονίκης\, Αγ.Δημητρίου & 3ης Σεπτεμβρίου\, Θεσσαλονίκη\, 54638\, Ελλάδα
CATEGORIES:Ημερολόγιο αγώνων
END:VEVENT
END:VCALENDAR