BEGIN:VCALENDAR
VERSION:2.0
PRODID:-//StivoZ.gr - ECPv5.16.4//NONSGML v1.0//EN
CALSCALE:GREGORIAN
METHOD:PUBLISH
X-WR-CALNAME:StivoZ.gr
X-ORIGINAL-URL:https://www.stivoz.gr
X-WR-CALDESC:StivoZ.gr - Εκδηλώσεις
BEGIN:VTIMEZONE
TZID:Europe/Athens
BEGIN:STANDARD
TZOFFSETFROM:+0200
TZOFFSETTO:+0200
TZNAME:EET
DTSTART:20120101T000000
END:STANDARD
END:VTIMEZONE
BEGIN:VEVENT
DTSTART;VALUE=DATE:20120601
DTEND;VALUE=DATE:20260421
DTSTAMP:20260420T023830
CREATED:20120509T200127Z
LAST-MODIFIED:20210512T185617Z
UID:28649-1338508800-0@www.stivoz.gr
SUMMARY:1ο grandprix (Έδεσσα) "Αλεξάνδρεια"
DESCRIPTION:Σχετικά θέματα:\n– www.stivoz.com/forum/showthread.php?6952\n– www.stivoz.com/forum/showthread.php?6954\n– www.stivoz.com/forum/showthread.php?6955 (αποτελέσματα) \nΠρόγραμμα:\n14.30 Τελετή  Έναρξης\n16.45 80 μ. εμπ. (ΠΚ/Α)\n16.45 Μήκος ΠΚ/Α\n16.55 100 μ. εμπ. (ΠΠ/Α)\n17.15 100 μ. Γυναικών\n17.15Επί κοντώ Ανδρών\n17.30 110 μ. εμπ. Εφήβων\n17.30 Δίσκος  ΠΠ/Α\n17.40 110 μ. εμπ.  Ανδρών\n17.40 Μήκος  Γυναικών\n17.40 Δίσκος  Ανδρών\n17.55 Δίσκος  Εφήβων\n17.55 100 μ. Γυναικών\n18.10 100 μ. Ανδρών\n18.10 Σφαίρα Γυναικών\n18.30 200 μ. Γυναικών\n18.40 200 μ. Ανδρών\n18.40 Τριπλούν Ανδρών\n19.00 600 μ. ΠΚ/Α\n19.10 600 μ. ΠΚ/Α\n19.10 Σφαίρα  Ανδρών\n19.20 Σφαίρα  Εφήβων\n19.20 Μήκος  Εφήβων – Παίδων\n19.20 1.500 μ. Γυναικών\n19.30 800 μ. Ανδρών\n19.50 80 μ.(ΠΚ/Α΄)\n20.00 80 μ. (ΠΠ/Α΄)
URL:https://www.stivoz.gr/event/alexandreia-2012/
CATEGORIES:Ημερολόγιο αγώνων
END:VEVENT
END:VCALENDAR