BEGIN:VCALENDAR
VERSION:2.0
PRODID:-//StivoZ.gr - ECPv5.16.4//NONSGML v1.0//EN
CALSCALE:GREGORIAN
METHOD:PUBLISH
X-WR-CALNAME:StivoZ.gr
X-ORIGINAL-URL:https://www.stivoz.gr
X-WR-CALDESC:StivoZ.gr - Εκδηλώσεις
BEGIN:VTIMEZONE
TZID:Europe/Athens
BEGIN:STANDARD
TZOFFSETFROM:+0200
TZOFFSETTO:+0200
TZNAME:EET
DTSTART:20180101T000000
END:STANDARD
END:VTIMEZONE
BEGIN:VEVENT
DTSTART;VALUE=DATE:20180602
DTEND;VALUE=DATE:20260422
DTSTAMP:20260421T134425
CREATED:20180531T083507Z
LAST-MODIFIED:20210615T184433Z
UID:29376-1527897600-0@www.stivoz.gr
SUMMARY:Αιγιάλεια (Αίγιο)
DESCRIPTION:Σχετικά θέματα:\n– www.stivoz.com/forum/showthread.php?17691 (αποτελέσματα) \nΠρόγραμμα \n16.30 100μ ΕΜΠ ΚΟΡΑΣΙΔΩΝ\n16.45 80μ ΕΜΠ ΠΚΑ΄\n17.00 80μ ΠΚΑ΄\n17.15 80μ ΠΠΑ΄\n17.30 300μ ΕΜΠ ΠΠΑ΄\n17.30 ΜΗΚΟΣ  ΑΝΔΡΩΝ\n17.40 100μ ΓΥΝΑΙΚΩΝ\n17.50 100μ ΑΝΔΡΩΝ\n18.00 ΥΨΟΣ ΑΝΔΡΩΝ\n18.00 ΑΚΟΝΤΙΣΜΟΣ ΚΟΡΑΣΙΔΩΝ\n18.00 300μ ΠΚΑ΄\n18.10 300μ ΠΠΑ΄\n18.20 400μ ΓΥΝΑΙΚΩΝ\n18.30 400μ ΑΝΔΡΩΝ\n18.30 ΑΚΟΝΤΙΣΜΟΣ ΠΠΑ΄\n18.40 ΜΗΚΟΣ  ΓΥΝΑΙΚΩΝ\n18.40 3.000μ ΒΑΔΗΝ ΠΚΑ΄\n18.45 5.000μ ΒΑΔΗΝ ΑΝΔΡΩΝ\n18.50 5.000μ ΒΑΔΗΝ ΓΥΝΑΙΚΩΝ\n19.20 600μ ΠΚΑ΄\n19.30 600μ ΠΠΑ΄\n19.30 ΥΨΟΣ ΓΥΝΑΙΚΩΝ\n19.30 ΣΦΑΙΡΟΒΟΛΙΑ ΑΝΔΡΩΝ\n19.40 100μ ΓΥΝΑΙΚΩΝ\n19.50 800μ ΓΥΝΑΙΚΩΝ\n20.00 800μ ΑΝΔΡΩΝ\n20.10 1.000μ ΠΚΑ΄\n20.20 1.000μ ΠΠΑ΄\n20.20 ΣΦΑΙΡΟΒΟΛΙΑ ΠΑΙΔΩΝ\n20.30 3.000μ ΓΥΝΑΙΚΩΝ\n20.45 3.000μ ΑΝΔΡΩΝ \nδήλωση συμμετοχής μέχρι την ΤΡΙΤΗ 29.5.2018 στην Ε.Α.Σ. ΣΕΓΑΣ ΒΟΡΕΙΑΣ ΠΕΛ/ΣΟΥ στο e-mail:  segaspatra@yahoo.gr
URL:https://www.stivoz.gr/event/aigialeia-2018/
CATEGORIES:Ημερολόγιο αγώνων
END:VEVENT
END:VCALENDAR