BEGIN:VCALENDAR
VERSION:2.0
PRODID:-//StivoZ.gr - ECPv5.16.4//NONSGML v1.0//EN
CALSCALE:GREGORIAN
METHOD:PUBLISH
X-WR-CALNAME:StivoZ.gr
X-ORIGINAL-URL:https://www.stivoz.gr
X-WR-CALDESC:StivoZ.gr - Εκδηλώσεις
BEGIN:VTIMEZONE
TZID:Europe/Athens
BEGIN:STANDARD
TZOFFSETFROM:+0200
TZOFFSETTO:+0200
TZNAME:EET
DTSTART:20170101T000000
END:STANDARD
END:VTIMEZONE
BEGIN:VEVENT
DTSTART;VALUE=DATE:20170610
DTEND;VALUE=DATE:20260421
DTSTAMP:20260420T093455
CREATED:20170611T162124Z
LAST-MODIFIED:20210615T184442Z
UID:29228-1497052800-0@www.stivoz.gr
SUMMARY:Αιγιάλεια
DESCRIPTION:Σχετικά θέματα:\n– www.stivoz.com/forum/showthread.php?16654 (αποτελέσματα)
URL:https://www.stivoz.gr/event/aigialeia-2017/
CATEGORIES:Ημερολόγιο αγώνων
END:VEVENT
END:VCALENDAR