BEGIN:VCALENDAR
VERSION:2.0
PRODID:-//StivoZ.gr - ECPv5.16.4//NONSGML v1.0//EN
CALSCALE:GREGORIAN
METHOD:PUBLISH
X-WR-CALNAME:StivoZ.gr
X-ORIGINAL-URL:https://www.stivoz.gr
X-WR-CALDESC:StivoZ.gr - Εκδηλώσεις
BEGIN:VTIMEZONE
TZID:Europe/Athens
BEGIN:STANDARD
TZOFFSETFROM:+0200
TZOFFSETTO:+0200
TZNAME:EET
DTSTART:20150101T000000
END:STANDARD
END:VTIMEZONE
BEGIN:VEVENT
DTSTART;VALUE=DATE:20150701
DTEND;VALUE=DATE:20260421
DTSTAMP:20260420T012435
CREATED:20150626T184456Z
LAST-MODIFIED:20210615T184452Z
UID:29020-1435708800-0@www.stivoz.gr
SUMMARY:Αιγιάλεια
DESCRIPTION:Πρόγραμμα: \n17:00	60μ.  ΠΚΒ΄\n17:10	60μ. ΠΠΒ΄\,\n17:10	ΜΗΚΟΣ  ΠΠΒ΄\n17:20	80μ. ΠΚΑ΄\n17:35	80μ. ΠΠΑ΄\,\n17:35	ΜΗΚΟΣ  ΠΚΒ΄\n17:50	ΣΦΑΙΡΟΒΟΛΙΑ ΠΠΑ΄\n17:50	100μ. ΑΝΔΡΩΝ\,\n18:05	ΥΨΟΣ ΑΝΔΡΩΝ\n18:05	1.000μ. ΠΚΑ΄ & ΠΚΒ΄\,\n18:15	1.000μ. ΠΠΑ΄ & ΠΠΒ΄\,\n18:15	ΤΡΙΠΛΟΥΝ ΓΥΝΑΙΚΩΝ\n18:25	3.000μ. ΓΥΝΑΙΚΩΝ\n18:45	200μ. ΓΥΝΑΙΚΩΝ\,\n18:45	ΣΦΑΙΡΟΒΟΛΙΑ ΓΥΝΑΙΚΩΝ\n19:00	ΜΗΚΟΣ  ΑΝΔΡΩΝ\n19:00	150μ. ΠΚΑ΄\,\n19:10	150μ. ΠΠΑ΄\,\n19:10	ΥΨΟΣ ΓΥΝΑΙΚΩΝ\n19:20	400μ. ΑΝΔΡΩΝ\n19:30	800μ. ΓΥΝΑΙΚΩΝ\n19:40	ΜΗΚΟΣ  ΓΥΝΑΙΚΩΝ\,\n19:40	ΣΦΑΙΡΟΒΟΛΙΑ ΑΝΔΡΩΝ\n19:40	80μ. Εμπ. ΠΚΑ΄\,\n19:50	300μ. ΠΚΑ΄\n20:00	300μ. ΠΠΑ΄\n20:10	800μ. ΑΝΔΡΩΝ\n20:20	3.000μ. ΑΝΔΡΩΝ\n20:35	3.000 ΒΑΔΗΝ ΠΚΑ΄		 \nΟι δηλώσεις συμμετοχής θα πρέπει να γίνουν μέχρι την  ΔΕΥΤΕΡΑ  29  ΙΟΥΝΙΟΥ 2015  στην Ε.Α.Σ. ΒΟΡΕΙΑΣ  ΠΕΛ/ΣΟΥ\n(fax 2610 313138 – mail: segaspatra@yahoo.gr  & apap1995@yahoo.gr \, tsifnik@yahoo.gr
URL:https://www.stivoz.gr/event/aigialeia-2015/
CATEGORIES:Ημερολόγιο αγώνων
END:VEVENT
END:VCALENDAR