BEGIN:VCALENDAR
VERSION:2.0
PRODID:-//StivoZ.gr - ECPv5.16.4//NONSGML v1.0//EN
CALSCALE:GREGORIAN
METHOD:PUBLISH
X-WR-CALNAME:StivoZ.gr
X-ORIGINAL-URL:https://www.stivoz.gr
X-WR-CALDESC:StivoZ.gr - Εκδηλώσεις
BEGIN:VTIMEZONE
TZID:Europe/Athens
BEGIN:STANDARD
TZOFFSETFROM:+0200
TZOFFSETTO:+0200
TZNAME:EET
DTSTART:20140101T000000
END:STANDARD
END:VTIMEZONE
BEGIN:VEVENT
DTSTART;VALUE=DATE:20140625
DTEND;VALUE=DATE:20260423
DTSTAMP:20260422T052617
CREATED:20140621T101529Z
LAST-MODIFIED:20210615T184459Z
UID:28914-1403654400-0@www.stivoz.gr
SUMMARY:Αιγιάλεια
DESCRIPTION:Σχετικά θέματα:\n– www.stivoz.com/forum/showthread.php?12119 (αποτελέσματα) \nΠΡΟΓΡΑΜΜΑ \n17:00 ΜΗΚΟΣ  ΠΚΒ΄\n17:00 ΜΠΑΛΑΚΙ ΠΠΒ΄ – ΠΚΒ΄\n17:00	50μ. ΜΙΝΙ   ΚΟΡΙΤΣΙΩΝ\n17:10	50μ. ΜΙΝΙ ΑΓΟΡΙΩΝ\n17:20 ΑΚΟΝΤΙΣΜΟΣ ΠΑΙΔΩΝ\n17:20	60μ.  ΠΠΒ΄\n17:35	60μ. ΠΚΒ΄\n17:35 ΜΗΚΟΣ  ΠΠΒ΄\n17:50	80μ. ΠΠΑ΄\n18:05	100μ. ΑΝΔΡΩΝ\n18:05 ΜΗΚΟΣ ΓΥΝΑΙΚΩΝ\n18:05 ΑΚΟΝΤΙΣΜΟΣ ΚΟΡΑΣΙΔΩΝ\n18:20	150μ. ΠΚΑ΄\n18:35	150μ. ΠΠΑ΄\n18:50	200μ. ΓΥΝΑΙΚΩΝ\n18:50 ΣΦΑΙΡΟΒΟΛΙΑ ΠΠΑ΄\n19:00	600μ. ΠΚΑ΄\n19:00 ΜΗΚΟΣ  ΑΝΔΡΩΝ\n19:10	1.000μ. ΠΚΑ΄ & ΠΚΒ΄\n19:20	1.000μ. ΠΠΑ΄ & ΠΠΒ΄\n19:30	1.000μ. ΜΙΝΙ ΑΓΟΡΙΩΝ – ΚΟΡΙΤΣΙΩΝ\n19:30 ΥΨΟΣ ΓΥΝΑΙΚΩΝ\n19:30 ΣΦΑΙΡΟΒΟΛΙΑ ΚΟΡΑΣΙΔΩΝ\n19:40	3.000μ. ΓΥΝΑΙΚΩΝ\n19:55	300μ. ΠΚΑ΄\n20:05	300μ. ΠΠΑ΄\n20:05 ΣΦΑΙΡΟΒΟΛΙΑ ΑΝΔΡΩΝ\n20:15	1.500μ. ΑΝΔΡΩΝ\n20:25	400μ. ΑΝΔΡΩΝ\n20:35	800μ. ΓΥΝΑΙΚΩΝ\n20:45	5.000μ. ΑΝΔΡΩΝ
URL:https://www.stivoz.gr/event/aigialeia-2014/
CATEGORIES:Ημερολόγιο αγώνων
END:VEVENT
END:VCALENDAR