BEGIN:VCALENDAR
VERSION:2.0
PRODID:-//StivoZ.gr - ECPv5.16.4//NONSGML v1.0//EN
CALSCALE:GREGORIAN
METHOD:PUBLISH
X-WR-CALNAME:StivoZ.gr
X-ORIGINAL-URL:https://www.stivoz.gr
X-WR-CALDESC:StivoZ.gr - Εκδηλώσεις
BEGIN:VTIMEZONE
TZID:Europe/Athens
BEGIN:DAYLIGHT
TZOFFSETFROM:+0200
TZOFFSETTO:+0300
TZNAME:EEST
DTSTART:20160327T010000
END:DAYLIGHT
BEGIN:STANDARD
TZOFFSETFROM:+0300
TZOFFSETTO:+0200
TZNAME:EET
DTSTART:20161030T010000
END:STANDARD
END:VTIMEZONE
BEGIN:VEVENT
DTSTART;VALUE=DATE:20161001
DTEND;VALUE=DATE:20161003
DTSTAMP:20260421T052146
CREATED:20160901T085227Z
LAST-MODIFIED:20211007T093955Z
UID:29126-1475337600-1475439300@www.stivoz.gr
SUMMARY:Αιγαιοπελαγίτικοι αγώνες (Καλλονή Λέσβου)
DESCRIPTION:Σχετικά θέματα:\n– www.stivoz.com/content.php?5879-Epistrofi-gia-Perra-stin-Kalloni\n– www.stivoz.com/forum/showthread.php?15806 (αποτελέσματα) \n-> Ιστορικό\n-> Προκήρυξη \nΑ΄ ΗΜΕΡΑ – ΣΑΒΒΑΤΟ 1 ΟΚΤΩΒΡΙΟΥ 2016 \n16.00	ΤΕΛΕΤΗ ΕΝΑΡΞΗΣ				\n17.00	100 μ.	ΓΥΝΑΙΚΩΝ		ΤΕΛΙΚΕΣ ΣΕΙΡΕΣ\n17.00	ΜΗΚΟΣ	ΠΑΓΚΟΡΑΣΙΔΩΝ Α΄		TEΛIKOΣ\n17.00	ΣΦΑΙΡΟΒΟΛΙΑ	ΑΝΔΡΩΝ		TEΛIKOΣ\n17.00	ΑΚΟΝΤΙΣΜΟΣ	ΠΑΙΔΩΝ		ΤΕΛΙΚΟΣ\n17.10	100 μ.	ΑμεΑ (ΓΥΝΑΙΚΩΝ)		ΤΕΛΙΚΟΣ\n17.20	100 μ.	ΑΝΔΡΩΝ		ΤΕΛΙΚΕΣΣΕΙΡΕΣ\n17.30	100 μ.	ΑμεΑ (ΑΝΔΡΩΝ)		ΤΕΛΙΚΟΣ\n17.40	1.000 μ.	ΠΑΓΚΟΡΑΣΙΔΩΝ Α΄		ΤΕΛΙΚΕΣΣΕΙΡΕΣ\n17.50	1.000 μ.	ΠΑΜΠΑΙΔΩΝ Α΄		ΤΕΛΙΚΕΣΣΕΙΡΕΣ\n18.00	60 μ.	ΠΑΓΚΟΡΑΣΙΔΩΝ Β΄		ΤΕΛΙΚΕΣ ΣΕΙΡΕΣ\n18.00	ΣΦΑΙΡΟΒΟΛΙΑ	ΠΑΓΚΟΡΑΣΙΔΩΝ Β΄		TEΛIKOΣ\n18.00	ΜΗΚΟΣ	ΠΑΜΠΑΙΔΩΝ Α΄		TEΛIKOΣ\n18.15	ΑΚΟΝΤΙΣΜΟΣ	ΚΟΡΑΣΙΔΩΝ		ΤΕΛΙΚΟΣ\n18.20	60 μ.	Α με Α (ΠΠ – ΠΚ)		ΤΕΛΙΚΟΣ\n18.40	60 μ.	ΠΑΜΠΑΙΔΩΝ Β΄		ΤΕΛΙΚΕΣ ΣΕΙΡΕΣ\n18.50	ΣΦΑΙΡΟΒΟΛΙΑ	ΠΑΙΔΩΝ		TEΛIKOΣ\n18.55	800 μ.	ΚΟΡΑΣΙΔΩΝ		ΤΕΛΙΚΟΣ\n19.00	ΜΗΚΟΣ	Α με Α (Α – Γ)		ΤΕΛΙΚΟΣ\n19.05	800 μ.	ΑΝΔΡΩΝ		ΤΕΛΙΚΟΣ\n19.15	300 μ.	ΠΑΓΚΟΡΑΣΙΔΩΝ Α΄		ΤΕΛΙΚΟΣ\n19.30	300 μ.	ΠΑΜΠΑΙΔΩΝ Α΄		ΤΕΛΙΚΟΣ\n19.30	ΑΚΟΝΤΙΣΜΟΣ	ΑΝΔΡΩΝ	& ΓΥΝΑΙΚΩΝ	TEΛIKOΣ\n19.45	ΜΗΚΟΣ	ΠΑΜΠΑΙΔΩΝ Β΄		ΤΕΛΙΚΟΣ\n19.45	600 μ.	ΠΑΓΚΟΡΑΣΙΔΩΝ Β΄		ΤΕΛΙΚΕΣ ΣΕΙΡΕΣ\n20.00	600 μ.	ΠΑΜΠΑΙΔΩΝ Β΄		ΤΕΛΙΚΕΣ ΣΕΙΡΕΣ\n20.00	ΣΦΑΙΡΟΒΟΛΙΑ	ΓΥΝΑΙΚΩΝ		TEΛIKOΣ\n20.15	400 μ.	ΓΥΝΑΙΚΩΝ		ΤΕΛΙΚΕΣ ΣΕΙΡΕΣ\n20.25	400 μ.	ΑΝΔΡΩΝ		ΤΕΛΙΚΕΣ ΣΕΙΡΕΣ\n20.40	3.000 μ.	ΓΥΝΑΙΚΩΝ		ΤΕΛΙΚΟΣ \nΒ΄ ΗΜΕΡΑ – ΚΥΡΙΑΚΗ 2 ΟΚΤΩΒΡΙΟΥ 2016			 \n15.45	3.000 μ. ΒΑΔΗΝ	ΓΥΝΑΙΚΩΝ	TEΛIKOΣ\n16.00	ΥΨΟΣ	ΓΥΝΑΙΚΩΝ	TEΛIKOΣ\n16.00	ΜΗΚΟΣ	ΑΝΔΡΩΝ	TEΛIKOΣ\n16.00	ΣΦΑΙΡΟΒΟΛΙΑ	ΠΑΜΠΑΙΔΩΝ Β΄	ΤΕΛΙΚΟΣ\n16.00	ΔΙΣΚΟΒΟΛΙΑ	ΓΥΝΑΙΚΩΝ	TEΛIKOΣ\n16.00	ΜΠΑΛΑΚΙ	ΑμεΑ (ΠΠ – ΠΚ)	ΤΕΛΙΚΟΣ\n16.15	400 μ. ΕΜΠΟΔΙΑ	ΑΝΔΡΩΝ	ΤΕΛΙΚΕΣ	ΣΕΙΡΕΣ\n16.30	80 μ.	ΠΑΓΚΟΡΑΣΙΔΩΝ Α΄	ΤΕΛΙΚΕΣΣΕΙΡΕΣ\n16.45	80 μ.	ΠΑΜΠΑΙΔΩΝ Α΄	ΤΕΛΙΚΕΣΣΕΙΡΕΣ\n16.45	ΣΦΑΙΡΟΒΟΛΙΑ	ΠΑΜΠΑΙΔΩΝ Α΄	TEΛIKOΣ\n16.45	ΜΗΚΟΣ	ΑμεΑ (ΠΠ)	ΤΕΛΙΚΟΣ\n17.05	150 μ.	ΠΑΓΚΟΡΑΣΙΔΩΝ Β΄	ΤΕΛΙΚΕΣΣΕΙΡΕΣ\n17.20	150 μ.	ΠΑΜΠΑΙΔΩΝ Β΄	ΤΕΛΙΚΕΣΣΕΙΡΕΣ\n17.30	ΥΨΟΣ	ΑΝΔΡΩΝ	TEΛIKOΣ\n17.30	ΜΗΚΟΣ	ΓΥΝΑΙΚΩΝ	ΤΕΛΙΚΟΣ\n17.30	ΣΦΑΙΡΟΒΟΛΙΑ	ΠΑΓΚΟΡΑΣΙΔΩΝ Α΄	TEΛIKOΣ\n17.30	ΣΦΑΙΡΟΒΟΛΙΑ	ΑμεΑ (Α – Γ)	ΤΕΛΙΚΟΣ\n17.30	ΔΙΣΚΟΒΟΛΙΑ	ΑΝΔΡΩΝ	TEΛIKOΣ\n17.40	200 μ.	ΚΟΡΑΣΙΔΩΝ	ΤΕΛΙΚΟΣ\n17.55	200 μ.	ΠΑΙΔΩΝ	ΤΕΛΙΚΟΣ\n18.10	ΜΗΚΟΣ	ΑμεΑ (ΠΚ)	ΤΕΛΙΚΟΣ\n18.15	1.500 μ. 	ΠΑΙΔΩΝ	ΤΕΛΙΚΕΣ	ΣΕΙΡΕΣ\n18.30	1.500 μ.	ΓΥΝΑΙΚΩΝ	TEΛIKOΣ\n18.30	ΣΦΑΙΡΟΒΟΛΙΑ	ΚΟΡΑΣΙΔΩΝ	TEΛIKOΣ\n18.45	3.000 μ.	ΑΝΔΡΩΝ	TEΛIKOΣ\n18.50	ΜΗΚΟΣ	ΠΑΓΚΟΡΑΣΙΔΩΝ Β΄	TEΛIKOΣ\n19.10	4 Χ 100 μ.	ΓΥΝΑΙΚΩΝ	TEΛIKΕΣ ΣΕΙΡΕΣ\n19.30	4 Χ 100 μ.	ΑΝΔΡΩΝ	TEΛIKΕΣ ΣΕΙΡΕΣ\n20.15	ΤΕΛΕΤΗ ΛΗΞΗΣ			 \n• Στους αγώνες δικαίωμα συμμετοχής έχουν ΜΟΝΟ οι αθλητές-τριες των σωματείων που ανήκουν στις Ε.Α.Σ. Σ.Ε.Γ.Α.Σ. του Αιγαίου πελάγους (Λέσβου\, Δωδεκανήσου\, Χίου – Σάμου και  Κυκλάδων).\n• Τα σωματεία μπορούν να δηλώσουν και να συμμετέχουν:\n1)	Σε κάθε αγώνισμα των κατηγοριών Ανδρών – Γυναικών\, με τρεις (3) το ανώτερο αθλητές-τριες.\n2)	Σε κάθε αγώνισμα των κατηγοριών  Παίδων – Κορασίδων\, ΠΠ-ΠΚ Α΄ και ΠΠ-ΠΚ Β΄\, με  δύο (2) το ανώτερο αθλητές-τριες σε κάθε κατηγορία.\n• Οι αθλητές-τριες της κατηγορίας Α-Γ & Ε-Ν (γεν. το 1998 και μεγαλύτεροι-ες)\, έχουν δικαίωμα να δηλωθούν και να αγωνισθούν σε δύο (2) ατομικά αγωνίσματα και στη σκυταλοδρομία.\n• Οι αθλητές-τριες της κατηγορίας Π-Κ (1999 – 2000)\, έχουν δικαίωμα να δηλωθούν και να αγωνισθούν σε δύο (2) συνολικά αγωνίσματα.\n• Οι αθλητές-τριες της κατηγορίας ΠΠ-ΠΚΑ΄ (2001 – 2002)\, έχουν δικαίωμα να δηλωθούν και να αγωνισθούν σε δύο (2) συνολικά αγωνίσματα\, εκτός από δύο ατομικά αγωνίσματα δρόμων.\n• Οι αθλητές – τριες της κατηγορίας ΠΠ – ΠΚΒ΄ (2003 – 2004)\, έχουν δικαίωμα να δηλωθούν και να αγωνισθούν σε ΕΝΑ (1) ΜΟΝΟ αγώνισμα (π.χ. δεν μπορούν να δηλωθούν και να αγωνιστούν στο Μήκος ΠΠ Β΄ και στα 60μ ΠΠ Β΄\, αλλά πρέπει να επιλέξουν το ένα από τα δύο).\n•  Δεν επιτρέπεται η συμμετοχή εκτός συναγωνισμού σε κανένα αγώνισμα \nΤα σωματεία θα στέλνουν τη  δήλωση συμμετοχής τους στις κατά τόπους Ε.Α.Σ.  μέχρι την ΤΕΤΑΡΤΗ 21 ΣΕΠΤΕΜΒΡΙΟΥ 2016
URL:https://www.stivoz.gr/event/aigaiopelagitikoi-2016/
CATEGORIES:Ημερολόγιο αγώνων
END:VEVENT
END:VCALENDAR