BEGIN:VCALENDAR
VERSION:2.0
PRODID:-//StivoZ.gr - ECPv5.16.4//NONSGML v1.0//EN
CALSCALE:GREGORIAN
METHOD:PUBLISH
X-WR-CALNAME:StivoZ.gr
X-ORIGINAL-URL:https://www.stivoz.gr
X-WR-CALDESC:StivoZ.gr - Εκδηλώσεις
BEGIN:VTIMEZONE
TZID:Europe/Athens
BEGIN:DAYLIGHT
TZOFFSETFROM:+0200
TZOFFSETTO:+0300
TZNAME:EEST
DTSTART:20110327T010000
END:DAYLIGHT
BEGIN:STANDARD
TZOFFSETFROM:+0300
TZOFFSETTO:+0200
TZNAME:EET
DTSTART:20111030T010000
END:STANDARD
END:VTIMEZONE
BEGIN:VEVENT
DTSTART;VALUE=DATE:20111001
DTEND;VALUE=DATE:20111003
DTSTAMP:20260422T055132
CREATED:20110816T122723Z
LAST-MODIFIED:20211007T093933Z
UID:28623-1317484800-1317587400@www.stivoz.gr
SUMMARY:Αιγαιοπελαγίτικοι (Μυτιλήνη)
DESCRIPTION:Α΄ ΗΜΕΡΑ  – ΣΑΒΒΑΤΟ  1  ΟΚΤΩΒΡΙΟΥ 2011  \n16.00 ΤΕΛΕΤΗ ΕΝΑΡΞΗΣ\n17.00 100 μ.      ΓΥΝΑΙΚΩΝ          ΤΕΛΙΚΕΣ ΣΕΙΡΕΣ\n17.00 ΜΗΚΟΣ       ΠΑΓΚΟΡΑΣΙΔΩΝ Α΄   TEΛIKOΣ\n17.00 ΣΦΑΙΡΟΒΟΛΙΑ ΓΥΝΑΙΚΩΝ          TEΛIKOΣ\n17.20 100 μ.      ΑΝΔΡΩΝ            ΤΕΛΙΚΕΣ ΣΕΙΡΕΣ\n17.30 ΥΨΟΣ        ΑΝΔΡΩΝ            TEΛIKOΣ\n17.30 ΑΚΟΝΤΙΣΜΟΣ  ΑΝΔΡΩΝ            TEΛIKOΣ\n17.40 1.000 μ.    ΠΑΓΚΟΡΑΣΙΔΩΝ Α΄   ΤΕΛΙΚΕΣ ΣΕΙΡΕΣ\n17.45 ΣΦΑΙΡΟΒΟΛΙΑ ΠΑΓΚΟΡΑΣΙΔΩΝ Β΄   TEΛIKOΣ\n17.50 1.000 μ.    ΠΑΜΠΑΙΔΩΝ  Α΄    ΤΕΛΙΚΕΣ ΣΕΙΡΕΣ\n18.05 60 μ.       ΠΑΓΚΟΡΑΣΙΔΩΝ Β΄   ΤΕΛΙΚΕΣ ΣΕΙΡΕΣ\n18.15 ΜΗΚΟΣ       ΠΑΜΠΑΙΔΩΝ  Α΄    TEΛIKOΣ\n18.35 60 μ.       ΠΑΜΠΑΙΔΩΝ  Β΄    ΤΕΛΙΚΕΣ ΣΕΙΡΕΣ\n18.40 ΣΦΑΙΡΟΒΟΛΙΑ ΠΑΙΔΩΝ            TEΛIKOΣ\n19.00 800 μ.      ΚΟΡΑΣΙΔΩΝ        ΤΕΛΙΚΕΣ ΣΕΙΡΕΣ\n19.00 ΑΚΟΝΤΙΣΜΟΣ  ΓΥΝΑΙΚΩΝ          ΤΕΛΙΚΟΣ\n19.30 800 μ.      ΠΑΙΔΩΝ            ΤΕΛΙΚΕΣ ΣΕΙΡΕΣ\n19.30 1.000 μ.    ΠΑΓΚΟΡΑΣΙΔΩΝ Β΄   ΤΕΛΙΚΕΣ ΣΕΙΡΕΣ\n19.40 1.000 μ.    ΠΑΜΠΑΙΔΩΝ  Β΄     ΤΕΛΙΚΕΣ ΣΕΙΡΕΣ\n19.40 ΣΦΑΙΡΟΒΟΛΙΑ ΑΝΔΡΩΝ            TEΛIKOΣ\n20.00 400 μ.      ΓΥΝΑΙΚΩΝ          ΤΕΛΙΚΕΣ ΣΕΙΡΕΣ\n20.15 400 μ.      ΑΝΔΡΩΝ            ΤΕΛΙΚΕΣ ΣΕΙΡΕΣ\n20.30 3.000μ.ΒΑΔΗΝ ΓΥΝΑΙΚΩΝ         ΤΕΛΙΚΟΣ \nΒ΄ ΗΜΕΡΑ  – ΚΥΡΙΑΚΗ   2  ΟΚΤΩΒΡΙΟΥ  2011  \n16.00 ΥΨΟΣ        ΓΥΝΑΙΚΩΝ          TEΛIKOΣ\n16.00 ΜΗΚΟΣ       ΑΝΔΡΩΝ            TEΛIKOΣ\n16.00 ΣΦΑΙΡΟΒΟΛΙΑ ΠΑΜΠΑΙΔΩΝ Α΄      ΤΕΛΙΚΟΣ\n16.15 400 μ. ΕΜΠ  ΑΝΔΡΩΝ            ΤΕΛΙΚΕΣ ΣΕΙΡΕΣ\n16.15 ΔΙΣΚΟΒΟΛΙΑ  ΓΥΝΑΙΚΩΝ          TEΛIKOΣ\n16.30 150 μ.      ΠΑΓΚΟΡΑΣΙΔΩΝ Β΄   ΤΕΛΙΚΕΣ ΣΕΙΡΕΣ\n16.45 150 μ.      ΠΑΜΠΑΙΔΩΝ  Β΄     ΤΕΛΙΚΕΣ ΣΕΙΡΕΣ\n17.05 80 μ.       ΠΑΓΚΟΡΑΣΙΔΩΝ Α΄   ΤΕΛΙΚΕΣ ΣΕΙΡΕΣ\n17.15 ΜΗΚΟΣ       ΓΥΝΑΙΚΩΝ          ΤΕΛΙΚΟΣ\n17.20 80 μ.       ΠΑΜΠΑΙΔΩΝ Α΄      ΤΕΛΙΚΕΣ ΣΕΙΡΕΣ\n17.20 ΣΦΑΙΡΟΒΟΛΙΑ ΠΑΜΠΑΙΔΩΝ Β΄      TEΛIKOΣ\n17.40 200 μ.      ΚΟΡΑΣΙΔΩΝ         ΤΕΛΙΚΟΣ\n17.45 ΔΙΣΚΟΒΟΛΙΑ  ΑΝΔΡΩΝ            TEΛIKOΣ\n17.55 200 μ.      ΠΑΙΔΩΝ            ΤΕΛΙΚΟΣ\n18.15 300 μ.      ΠΑΓΚΟΡΑΣΙΔΩΝ Α΄   ΤΕΛΙΚΕΣ ΣΕΙΡΕΣ\n18.30 300 μ.      ΠΑΜΠΑΙΔΩΝ  Α΄     ΤΕΛΙΚΕΣ ΣΕΙΡΕΣ\n18.30 ΣΦΑΙΡΟΒΟΛΙΑ ΠΑΓΚΟΡΑΣΙΔΩΝ Α΄   TEΛIKOΣ\n18.45 1.500 μ.    ΓΥΝΑΙΚΩΝ          TEΛIKOΣ\n19.00 1.500 μ.    ΑΝΔΡΩΝ            TEΛIKOΣ\n19.20 4 Χ 100 μ.  ΓΥΝΑΙΚΩΝ          TEΛIKΕΣ ΣΕΙΡΕΣ\n19.40 4 Χ 100 μ.  ΑΝΔΡΩΝ            TEΛIKΕΣ ΣΕΙΡΕΣ\n20.15 ΤΕΛΕΤΗ  ΛΗΞΗΣ \nΤΟ  ΩΡΟΛΟΓΙΟ ΠΡΟΓΡΑΜΜΑ  ΘΑ ΣΥΜΠΛΗΡΩΘΕΙ  ΚΑΙ  ΜΕ ΑΓΩΝΙΣΜΑΤΑ   ΓΙΑ   ΑΤΟΜΑ  ΜΕ   ΑΝΑΠΗΡΙΑ
URL:https://www.stivoz.gr/event/aigaiopelagitikoi-2011/
CATEGORIES:Ημερολόγιο αγώνων
END:VEVENT
END:VCALENDAR