BEGIN:VCALENDAR
VERSION:2.0
PRODID:-//StivoZ.gr - ECPv5.16.4//NONSGML v1.0//EN
CALSCALE:GREGORIAN
METHOD:PUBLISH
X-WR-CALNAME:StivoZ.gr
X-ORIGINAL-URL:https://www.stivoz.gr
X-WR-CALDESC:StivoZ.gr - Εκδηλώσεις
BEGIN:VTIMEZONE
TZID:Europe/Athens
BEGIN:DAYLIGHT
TZOFFSETFROM:+0200
TZOFFSETTO:+0300
TZNAME:EEST
DTSTART:20080330T010000
END:DAYLIGHT
BEGIN:STANDARD
TZOFFSETFROM:+0300
TZOFFSETTO:+0200
TZNAME:EET
DTSTART:20081026T010000
END:STANDARD
END:VTIMEZONE
BEGIN:VEVENT
DTSTART;VALUE=DATE:20081004
DTEND;VALUE=DATE:20081006
DTSTAMP:20260421T035647
CREATED:20080916T152611Z
LAST-MODIFIED:20211007T093919Z
UID:28151-1223089200-1223240400@www.stivoz.gr
SUMMARY:Αιγαιοπελαγιτικοι (Άνδρος)
DESCRIPTION:1η Ημέρα Σάββατο 4/10/08 (ΑΠΟΓΕΥΜΑ) \n16.00 ΤΕΛΕΤΗ ΕΝΑΡΞΗΣ \n17.00 ΜΗΚΟΣ (ΠΚ Α)\n17.00 ΣΦΑΙΡΟΒΟΛΙΑ (Γ)\n17.00 100 μ. (Γ)\n17.15 100 μ. (Α)\n17.30 ΑΚΟΝΤΙΣΜΟΣ (Α)\n17.30 ΥΨΟΣ (Α)\n17.30 1.000 μ. (ΠΚ Α)\n17.40 1.000 μ. (ΠΠ Α)\n18.05 60 μ. (ΠΚ Β)\n18.15 ΣΦΑΙΡΟΒΟΛΙΑ (Π)\n18.25 60 μ. (ΠΠ Β)\n18.45 ΜΗΚΟΣ (ΠΠ Α)\n18.50 800 μ. (Γ)\n19.00 800 μ. (Α\n19.00 ΑΚΟΝΤΙΟ (Γ)\n19.15 600 μ. (ΠΚ Β)\n19.25 600 μ. (ΠΠ Β)\n19.30 ΣΦΑΙΡΟΒΟΛΙΑ (Α)\n19.40 400 μ. (Γ)\n19.50 400 μ. (Α)\n20.05 ΑΓΩΝΙΣΜΑΤΑ ΑΤΟΜΩΝ ΜΕ ΑΝΑΠΗΡΙΑ\n20.25 100 μ. ΕΜΠΟΔΙΑ (Γ)\n20.35 3.000 μ. ΒΑΔΗΝ (Γ)\n20.35 5.000 μ. ΒΑΔΗΝ (Α) \n2η ημέρα Κυριακή 5/10/08 (ΑΠΟΓΕΥΜΑ) \n16.00 ΣΦΑΙΡΟΒΟΛΙΑ (ΠΚ Α)\n16.00 ΜΗΚΟΣ (Α)\n16.00 ΔΙΣΚΟΒΟΛΙΑ (Α)\n16.00 400 μ. ΕΜΠΟΔΙΑ (Γ)\n16.15 400 μ. ΕΜΠΟΔΙΑ (Α)\n16.20 ΥΨΟΣ (Γ)\n16.30 80 μ. (ΠΚ Α)\n16.50 80 μ. (ΠΠ Α)\n17.20 1.500 μ. (Κ)\n17.30 1.500 μ. (Π)\n17.30 ΣΦΑΙΡΟΒΟΛΙΑ (ΠΠ Α)\n17.30 ΜΗΚΟΣ (Γ)\n17.30 ΔΙΣΚΟΒΟΛΙΑ (Γ)\n17.45 200 μ. (Κ)\n18.00 200 μ. (Π)\n18.15 3.000 μ. (Γ)\n18.35 3.000 μ. (Α)\n18.45 ΑΓΩΝΙΣΜΑΤΑ ΑΤΟΜΩΝ ΜΕ ΑΝΑΠΗΡΙΑ\n19.30 4 Χ 100 μ. (Γ)\n19.45 4 Χ 100 μ. (Α) \n20.15 ΤΕΛΕΤΗ ΛΗΞΗΣ
URL:https://www.stivoz.gr/event/aigaiopelagitikoi-2008/
CATEGORIES:Ημερολόγιο αγώνων
END:VEVENT
END:VCALENDAR