BEGIN:VCALENDAR
VERSION:2.0
PRODID:-//StivoZ.gr - ECPv5.16.4//NONSGML v1.0//EN
CALSCALE:GREGORIAN
METHOD:PUBLISH
X-WR-CALNAME:StivoZ.gr
X-ORIGINAL-URL:https://www.stivoz.gr
X-WR-CALDESC:StivoZ.gr - Εκδηλώσεις
BEGIN:VTIMEZONE
TZID:Europe/Athens
BEGIN:STANDARD
TZOFFSETFROM:+0200
TZOFFSETTO:+0200
TZNAME:EET
DTSTART:20120101T000000
END:STANDARD
END:VTIMEZONE
BEGIN:VEVENT
DTSTART;VALUE=DATE:20120520
DTEND;VALUE=DATE:20260421
DTSTAMP:20260420T004806
CREATED:20120510T073205Z
LAST-MODIFIED:20220622T080331Z
UID:28682-1337472000-0@www.stivoz.gr
SUMMARY:Πανελ.Πρ. Ημιμαραθωνίου (Αθήνα)
DESCRIPTION:www.acropolishalfmarathon.gr \nσχετικά θέματα:\n– www.stivoz.com/forum/showthread.php?6597\n– www.stivoz.com/forum/showthread.php?6857\n– www.stivoz.com/forum/showthread.php?16001 (αποτελέσματα) \nΕκκίνηση: 9πμ \nΒασ. Κωνσταντίνου\, Βασ.Σοφίας\, Λ. Αλεξάνδρας\, Πατησίων\, Πανεπιστημίου\, Αμαλίας\, Δ. Αρεοπαγίτου\, Β.Όλγας\, Βασ. Κωνσταντίνου\nκαι ακολουθεί 2η στροφή στους ίδιους δρόμους με κατάληξη το Ζάππειο. \nΑπαγορεύεται η υποβοήθηση με συνοδεία
URL:https://www.stivoz.gr/event/ahm-2012/
CATEGORIES:Ημερολόγιο αγώνων
END:VEVENT
END:VCALENDAR