BEGIN:VCALENDAR
VERSION:2.0
PRODID:-//StivoZ.gr - ECPv5.16.4//NONSGML v1.0//EN
CALSCALE:GREGORIAN
METHOD:PUBLISH
X-WR-CALNAME:StivoZ.gr
X-ORIGINAL-URL:https://www.stivoz.gr
X-WR-CALDESC:StivoZ.gr - Εκδηλώσεις
BEGIN:VTIMEZONE
TZID:Europe/Athens
BEGIN:STANDARD
TZOFFSETFROM:+0200
TZOFFSETTO:+0200
TZNAME:EET
DTSTART:20130101T000000
END:STANDARD
END:VTIMEZONE
BEGIN:VEVENT
DTSTART;VALUE=DATE:20130428
DTEND;VALUE=DATE:20260423
DTSTAMP:20260422T052756
CREATED:20130513T062956Z
LAST-MODIFIED:20181208T172835Z
UID:28782-1367107200-0@www.stivoz.gr
SUMMARY:αγώνες σκυταλοδρομιών (Θεσ/νίκη)
DESCRIPTION:Σχετικά θέματα:\n– www.stivoz.com/forum/showthread.php?8525\n– www.stivoz.com/forum/showthread.php?8527 (αποτελέσματα)
URL:https://www.stivoz.gr/event/agones-skytalodromion-thes-niki/
CATEGORIES:Ημερολόγιο αγώνων
END:VEVENT
END:VCALENDAR