BEGIN:VCALENDAR
VERSION:2.0
PRODID:-//StivoZ.gr - ECPv5.16.4//NONSGML v1.0//EN
CALSCALE:GREGORIAN
METHOD:PUBLISH
X-WR-CALNAME:StivoZ.gr
X-ORIGINAL-URL:https://www.stivoz.gr
X-WR-CALDESC:StivoZ.gr - Εκδηλώσεις
BEGIN:VTIMEZONE
TZID:Europe/Athens
BEGIN:DAYLIGHT
TZOFFSETFROM:+0200
TZOFFSETTO:+0300
TZNAME:EEST
DTSTART:20190331T010000
END:DAYLIGHT
BEGIN:STANDARD
TZOFFSETFROM:+0300
TZOFFSETTO:+0200
TZNAME:EET
DTSTART:20191027T010000
END:STANDARD
END:VTIMEZONE
BEGIN:VEVENT
DTSTART;VALUE=DATE:20190616
DTEND;VALUE=DATE:20190617
DTSTAMP:20260419T202352
CREATED:20190529T062733Z
LAST-MODIFIED:20190617T113622Z
UID:50521-1560643200-1560729599@www.stivoz.gr
SUMMARY:Αέτεια "Ν.Κοτσίδης" (Θεσσαλονίκη)
DESCRIPTION:Σχετικά θέματα:\n– https://www.stivoz.gr/aeteia-n-kotsidis-2019/ (αποτελέσματα) \nΠρόγραμμα: \n17:30 Μήκος ΓΥΝΑΙΚΩΝ\n17.30 80μ. Κ 16 – ΑΓΟΡΙΑ\n17.45 150μ. Κ 16 – ΚΟΡΙΤΣΙΑ\n17.45 Επί Κοντώ ΑΝΔΡΩΝ\n18.00 80μ. ΕΜΠ Κ 16 – ΚΟΡΙΤΣΙΑ\n18.10 100 ΕΜΠ Κ 16 – ΑΓΟΡΙΑ\n18.20 100μ. ΕΜΠ ΓΥΝΑΙΚΩΝ\n18.30 110μ. ΕΜΠ ΕΦΗΒΩΝ\n18.45 110μ. ΕΜΠ ΑΝΔΡΩΝ\n18.45 Τριπλούν ΑΝΔΡΩΝ\n19.00 600μ. Κ 16 – ΚΟΡΙΤΣΙΑ\n19.15 200 μ. Γ ΥΝΑΙΚΩΝ\n19.30 400μ. ΕΜΠ ΑΝΔΡΩΝ\n19.45 300μ. ΕΜΠ Κ 16 – ΚΟΡΙΤΣΙΑ\n20.00 400μ. ΑΝΔΡΩΝ\n20.15 100μ. ΑΝΔΡΩΝ\n20.30 100μ ΓΥΝΑΙΚΩΝ\n20.30 Τριπλούν ΓΥΝΑΙΚΩΝ\n20.45 3000 μ ΑΝΔΡΩΝ\n21.00 4 x 80 Κ 16 – ΚΟΡΙΤΣΙΑ\n21.15 4 x 100 Κ 18 – ΑΓΟΡΙΑ\n21.30 4 x 100 ΓΥΝΑΙΚΩΝ \nΣυμμετοχή: ΜΕΧΡΙ 2 ΑΓΩΝΙΣΜΑΤΑ ανεξάρτητα εάν θα είναι ατομικά ή ομαδικά.\nΣε περίπτωση που το ενδιαφέρον των αθλητών-τριών είναι μεγάλο\, τότε η επιλογή των αθλητών – τριών\, θα γίνεται με κριτήριο την ατομική επίδοση. Σε καμιά περίπτωση ο αριθμός των συμμετεχόντων σε κάθε αγώνισμα δεν θα ξεπερνά τους ΔΕΚΑΕΞΙ ( 16 ). \nΟι αθλητές-τριες που επιθυμούν να λάβουν μέρος στους αγώνες θα πρέπει να δηλώσουν την συμμετοχή τους μέχρι την Τρίτη 11 Ιουνίου και ώρα 12.00΄ στην ΕΑΣ ΣΕΓΑΣ ΘΕΣΣΑΛΟΝΙΚΗΣ ηλεκτρονικά στο segasthes@gmail.com\, στο -> έντυπο δήλωσης συμμετοχής όπου πρέπει να σημειωθεί υποχρεωτικά η καλύτερη ατομική επίδοση του αθλητή. Η συμμετοχή των αθλητών – τριών θα οριστικοποιηθεί το αργότερο δύο μέρες πριν την έναρξη των αγώνων μέσω των start list που θα ανακοινωθούν την Πέμπτη 13 Ιουνίου. \nΟργάνωση: ΜΑΣ ΑΕΤΟΣ – ΑΙΟΛΟΣ ΜΑΚΕΔΟΝΙΑΣ ΓΕΠΘ – ΕΑΣ ΣΕΓΑΣ ΘΕΣΣΑΛΟΝΙΚΗΣ
URL:https://www.stivoz.gr/event/aeteia-2019/
CATEGORIES:Ημερολόγιο αγώνων
END:VEVENT
END:VCALENDAR