BEGIN:VCALENDAR
VERSION:2.0
PRODID:-//StivoZ.gr - ECPv5.16.4//NONSGML v1.0//EN
CALSCALE:GREGORIAN
METHOD:PUBLISH
X-WR-CALNAME:StivoZ.gr
X-ORIGINAL-URL:https://www.stivoz.gr
X-WR-CALDESC:StivoZ.gr - Εκδηλώσεις
BEGIN:VTIMEZONE
TZID:Europe/Athens
BEGIN:STANDARD
TZOFFSETFROM:+0200
TZOFFSETTO:+0200
TZNAME:EET
DTSTART:20110101T000000
END:STANDARD
END:VTIMEZONE
BEGIN:VEVENT
DTSTART;VALUE=DATE:20111113
DTEND;VALUE=DATE:20260423
DTSTAMP:20260422T033802
CREATED:20110113T135438Z
LAST-MODIFIED:20220622T080343Z
UID:28577-1321142400-0@www.stivoz.gr
SUMMARY:Κλασσικός Μαραθώνιος Αθηνών
DESCRIPTION:Σχετικά θέματα:\n– www.stivoz.com/content.php?1025-Den-masisan-oute-to-kryo-oute-ti-vroxi\n– www.stivoz.com/forum/showthread.php?5806 (αποτελέσματα)
URL:https://www.stivoz.gr/event/acm-2011/
CATEGORIES:Ημερολόγιο αγώνων
END:VEVENT
END:VCALENDAR